BEGIN:VCALENDAR
VERSION:2.0
PRODID:https://www.kufer.de/kuferweb / DE
METHOD:PUBLISH
CALSCALE:GREGORIAN
X-WR-TIMEZONE:Europe/Berlin
BEGIN:VTIMEZONE
TZID:Europe/Berlin
X-LIC-LOCATION:Europe/Berlin
BEGIN:DAYLIGHT
TZOFFSETFROM:+0100
TZOFFSETTO:+0200
TZNAME:CEST
DTSTART:19700329T020000
RRULE:FREQ=YEARLY;INTERVAL=1;BYDAY=-1SU;BYMONTH=3
END:DAYLIGHT
BEGIN:STANDARD
TZOFFSETFROM:+0200
TZOFFSETTO:+0100
TZNAME:CET
DTSTART:19701025T030000
RRULE:FREQ=YEARLY;INTERVAL=1;BYDAY=-1SU;BYMONTH=10
END:STANDARD
END:VTIMEZONE
BEGIN:VEVENT
DTSTAMP:20260424T131806
DTSTART;TZID=Europe/Berlin:20260219T190000
DTEND;TZID=Europe/Berlin:20260219T211500
UID:ZG20110-20260219T190000@VHSLEVERKUSEN
SUMMARY:Spielen und Darstellen (ZG20110) 
LOCATION:OP, Städt. Kath. Hauptschule, Aula, Im Hederichsfeld 19, Im Hederichsfeld 19, 51379 Leverkusen
END:VEVENT
BEGIN:VEVENT
DTSTAMP:20260424T131806
DTSTART;TZID=Europe/Berlin:20260226T190000
DTEND;TZID=Europe/Berlin:20260226T211500
UID:ZG20110-20260226T190000@VHSLEVERKUSEN
SUMMARY:Spielen und Darstellen (ZG20110) 
LOCATION:OP, Städt. Kath. Hauptschule, Aula, Im Hederichsfeld 19, Im Hederichsfeld 19, 51379 Leverkusen
END:VEVENT
BEGIN:VEVENT
DTSTAMP:20260424T131806
DTSTART;TZID=Europe/Berlin:20260305T190000
DTEND;TZID=Europe/Berlin:20260305T211500
UID:ZG20110-20260305T190000@VHSLEVERKUSEN
SUMMARY:Spielen und Darstellen (ZG20110) 
LOCATION:OP, Städt. Kath. Hauptschule, Aula, Im Hederichsfeld 19, Im Hederichsfeld 19, 51379 Leverkusen
END:VEVENT
BEGIN:VEVENT
DTSTAMP:20260424T131806
DTSTART;TZID=Europe/Berlin:20260312T190000
DTEND;TZID=Europe/Berlin:20260312T211500
UID:ZG20110-20260312T190000@VHSLEVERKUSEN
SUMMARY:Spielen und Darstellen (ZG20110) 
LOCATION:OP, Städt. Kath. Hauptschule, Aula, Im Hederichsfeld 19, Im Hederichsfeld 19, 51379 Leverkusen
END:VEVENT
BEGIN:VEVENT
DTSTAMP:20260424T131806
DTSTART;TZID=Europe/Berlin:20260416T190000
DTEND;TZID=Europe/Berlin:20260416T211500
UID:ZG20110-20260416T190000@VHSLEVERKUSEN
SUMMARY:Spielen und Darstellen (ZG20110) 
LOCATION:OP, Städt. Kath. Hauptschule, Aula, Im Hederichsfeld 19, Im Hederichsfeld 19, 51379 Leverkusen
END:VEVENT
BEGIN:VEVENT
DTSTAMP:20260424T131806
DTSTART;TZID=Europe/Berlin:20260423T190000
DTEND;TZID=Europe/Berlin:20260423T211500
UID:ZG20110-20260423T190000@VHSLEVERKUSEN
SUMMARY:Spielen und Darstellen (ZG20110) 
LOCATION:OP, Städt. Kath. Hauptschule, Aula, Im Hederichsfeld 19, Im Hederichsfeld 19, 51379 Leverkusen
END:VEVENT
BEGIN:VEVENT
DTSTAMP:20260424T131806
DTSTART;TZID=Europe/Berlin:20260430T190000
DTEND;TZID=Europe/Berlin:20260430T211500
UID:ZG20110-20260430T190000@VHSLEVERKUSEN
SUMMARY:Spielen und Darstellen (ZG20110) 
LOCATION:OP, Städt. Kath. Hauptschule, Aula, Im Hederichsfeld 19, Im Hederichsfeld 19, 51379 Leverkusen
END:VEVENT
BEGIN:VEVENT
DTSTAMP:20260424T131806
DTSTART;TZID=Europe/Berlin:20260521T190000
DTEND;TZID=Europe/Berlin:20260521T211500
UID:ZG20110-20260521T190000@VHSLEVERKUSEN
SUMMARY:Spielen und Darstellen (ZG20110) 
LOCATION:OP, Städt. Kath. Hauptschule, Aula, Im Hederichsfeld 19, Im Hederichsfeld 19, 51379 Leverkusen
END:VEVENT
BEGIN:VEVENT
DTSTAMP:20260424T131806
DTSTART;TZID=Europe/Berlin:20260528T190000
DTEND;TZID=Europe/Berlin:20260528T211500
UID:ZG20110-20260528T190000@VHSLEVERKUSEN
SUMMARY:Spielen und Darstellen (ZG20110) 
LOCATION:OP, Städt. Kath. Hauptschule, Aula, Im Hederichsfeld 19, Im Hederichsfeld 19, 51379 Leverkusen
END:VEVENT
BEGIN:VEVENT
DTSTAMP:20260424T131806
DTSTART;TZID=Europe/Berlin:20260618T190000
DTEND;TZID=Europe/Berlin:20260618T211500
UID:ZG20110-20260618T190000@VHSLEVERKUSEN
SUMMARY:Spielen und Darstellen (ZG20110) 
LOCATION:OP, Städt. Kath. Hauptschule, Aula, Im Hederichsfeld 19, Im Hederichsfeld 19, 51379 Leverkusen
END:VEVENT
BEGIN:VEVENT
DTSTAMP:20260424T131806
DTSTART;TZID=Europe/Berlin:20260625T190000
DTEND;TZID=Europe/Berlin:20260625T211500
UID:ZG20110-20260625T190000@VHSLEVERKUSEN
SUMMARY:Spielen und Darstellen (ZG20110) 
LOCATION:OP, Städt. Kath. Hauptschule, Aula, Im Hederichsfeld 19, Im Hederichsfeld 19, 51379 Leverkusen
END:VEVENT
BEGIN:VEVENT
DTSTAMP:20260424T131806
DTSTART;TZID=Europe/Berlin:20260702T190000
DTEND;TZID=Europe/Berlin:20260702T211500
UID:ZG20110-20260702T190000@VHSLEVERKUSEN
SUMMARY:Spielen und Darstellen (ZG20110) 
LOCATION:OP, Städt. Kath. Hauptschule, Aula, Im Hederichsfeld 19, Im Hederichsfeld 19, 51379 Leverkusen
END:VEVENT
END:VCALENDAR