BEGIN:VCALENDAR
VERSION:2.0
PRODID:https://www.kufer.de/kuferweb / DE
METHOD:PUBLISH
CALSCALE:GREGORIAN
X-WR-TIMEZONE:Europe/Berlin
BEGIN:VTIMEZONE
TZID:Europe/Berlin
X-LIC-LOCATION:Europe/Berlin
BEGIN:DAYLIGHT
TZOFFSETFROM:+0100
TZOFFSETTO:+0200
TZNAME:CEST
DTSTART:19700329T020000
RRULE:FREQ=YEARLY;INTERVAL=1;BYDAY=-1SU;BYMONTH=3
END:DAYLIGHT
BEGIN:STANDARD
TZOFFSETFROM:+0200
TZOFFSETTO:+0100
TZNAME:CET
DTSTART:19701025T030000
RRULE:FREQ=YEARLY;INTERVAL=1;BYDAY=-1SU;BYMONTH=10
END:STANDARD
END:VTIMEZONE
BEGIN:VEVENT
DTSTAMP:20260422T040924
DTSTART;TZID=Europe/Berlin:20260521T180000
DTEND;TZID=Europe/Berlin:20260521T201500
UID:ZG22010-20260521T180000@VHSLEVERKUSEN
SUMMARY:Blumen in Aquarell "Loose Watercolor"-Technik (ZG22010) 
LOCATION:Wiesdorf, Musikschule, VHS-Unterrichtsräume, Atelier, Fr.-Ebert-St, Fr.-Ebert-Straße 41 a, 51373 Leverkusen
END:VEVENT
BEGIN:VEVENT
DTSTAMP:20260422T040924
DTSTART;TZID=Europe/Berlin:20260528T180000
DTEND;TZID=Europe/Berlin:20260528T201500
UID:ZG22010-20260528T180000@VHSLEVERKUSEN
SUMMARY:Blumen in Aquarell "Loose Watercolor"-Technik (ZG22010) 
LOCATION:Wiesdorf, Musikschule, VHS-Unterrichtsräume, Atelier, Fr.-Ebert-St, Fr.-Ebert-Straße 41 a, 51373 Leverkusen
END:VEVENT
BEGIN:VEVENT
DTSTAMP:20260422T040924
DTSTART;TZID=Europe/Berlin:20260611T180000
DTEND;TZID=Europe/Berlin:20260611T201500
UID:ZG22010-20260611T180000@VHSLEVERKUSEN
SUMMARY:Blumen in Aquarell "Loose Watercolor"-Technik (ZG22010) 
LOCATION:Wiesdorf, Musikschule, VHS-Unterrichtsräume, Atelier, Fr.-Ebert-St, Fr.-Ebert-Straße 41 a, 51373 Leverkusen
END:VEVENT
BEGIN:VEVENT
DTSTAMP:20260422T040924
DTSTART;TZID=Europe/Berlin:20260618T180000
DTEND;TZID=Europe/Berlin:20260618T201500
UID:ZG22010-20260618T180000@VHSLEVERKUSEN
SUMMARY:Blumen in Aquarell "Loose Watercolor"-Technik (ZG22010) 
LOCATION:Wiesdorf, Musikschule, VHS-Unterrichtsräume, Atelier, Fr.-Ebert-St, Fr.-Ebert-Straße 41 a, 51373 Leverkusen
END:VEVENT
BEGIN:VEVENT
DTSTAMP:20260422T040924
DTSTART;TZID=Europe/Berlin:20260625T180000
DTEND;TZID=Europe/Berlin:20260625T201500
UID:ZG22010-20260625T180000@VHSLEVERKUSEN
SUMMARY:Blumen in Aquarell "Loose Watercolor"-Technik (ZG22010) 
LOCATION:Wiesdorf, Musikschule, VHS-Unterrichtsräume, Atelier, Fr.-Ebert-St, Fr.-Ebert-Straße 41 a, 51373 Leverkusen
END:VEVENT
BEGIN:VEVENT
DTSTAMP:20260422T040924
DTSTART;TZID=Europe/Berlin:20260702T180000
DTEND;TZID=Europe/Berlin:20260702T201500
UID:ZG22010-20260702T180000@VHSLEVERKUSEN
SUMMARY:Blumen in Aquarell "Loose Watercolor"-Technik (ZG22010) 
LOCATION:Wiesdorf, Musikschule, VHS-Unterrichtsräume, Atelier, Fr.-Ebert-St, Fr.-Ebert-Straße 41 a, 51373 Leverkusen
END:VEVENT
BEGIN:VEVENT
DTSTAMP:20260422T040924
DTSTART;TZID=Europe/Berlin:20260709T180000
DTEND;TZID=Europe/Berlin:20260709T201500
UID:ZG22010-20260709T180000@VHSLEVERKUSEN
SUMMARY:Blumen in Aquarell "Loose Watercolor"-Technik (ZG22010) 
LOCATION:Wiesdorf, Musikschule, VHS-Unterrichtsräume, Atelier, Fr.-Ebert-St, Fr.-Ebert-Straße 41 a, 51373 Leverkusen
END:VEVENT
END:VCALENDAR