BEGIN:VCALENDAR
VERSION:2.0
PRODID:https://www.kufer.de/kuferweb / DE
METHOD:PUBLISH
CALSCALE:GREGORIAN
X-WR-TIMEZONE:Europe/Berlin
BEGIN:VTIMEZONE
TZID:Europe/Berlin
X-LIC-LOCATION:Europe/Berlin
BEGIN:DAYLIGHT
TZOFFSETFROM:+0100
TZOFFSETTO:+0200
TZNAME:CEST
DTSTART:19700329T020000
RRULE:FREQ=YEARLY;INTERVAL=1;BYDAY=-1SU;BYMONTH=3
END:DAYLIGHT
BEGIN:STANDARD
TZOFFSETFROM:+0200
TZOFFSETTO:+0100
TZNAME:CET
DTSTART:19701025T030000
RRULE:FREQ=YEARLY;INTERVAL=1;BYDAY=-1SU;BYMONTH=10
END:STANDARD
END:VTIMEZONE
BEGIN:VEVENT
DTSTAMP:20260424T133811
DTSTART;TZID=Europe/Berlin:20260425T151500
DTEND;TZID=Europe/Berlin:20260425T190000
UID:ZG30150-20260425T151500@VHSLEVERKUSEN
SUMMARY:Koreanisches Street Food: Ramen, Kimchi und mehr - auch für Veganer*innen (ZG30150) 
LOCATION:OP, Städt. Kath. Hauptschule, Küche, Im Hederichsfeld 19, Im Hederichsfeld 19, 51379 Leverkusen
END:VEVENT
END:VCALENDAR