BEGIN:VCALENDAR
VERSION:2.0
PRODID:https://www.kufer.de/kuferweb / DE
METHOD:PUBLISH
CALSCALE:GREGORIAN
X-WR-TIMEZONE:Europe/Berlin
BEGIN:VTIMEZONE
TZID:Europe/Berlin
X-LIC-LOCATION:Europe/Berlin
BEGIN:DAYLIGHT
TZOFFSETFROM:+0100
TZOFFSETTO:+0200
TZNAME:CEST
DTSTART:19700329T020000
RRULE:FREQ=YEARLY;INTERVAL=1;BYDAY=-1SU;BYMONTH=3
END:DAYLIGHT
BEGIN:STANDARD
TZOFFSETFROM:+0200
TZOFFSETTO:+0100
TZNAME:CET
DTSTART:19701025T030000
RRULE:FREQ=YEARLY;INTERVAL=1;BYDAY=-1SU;BYMONTH=10
END:STANDARD
END:VTIMEZONE
BEGIN:VEVENT
DTSTAMP:20260421T145810
DTSTART;TZID=Europe/Berlin:20260627T140000
DTEND;TZID=Europe/Berlin:20260627T170000
UID:ZG30530-20260627T140000@VHSLEVERKUSEN
SUMMARY:Frauenherzen schlagen anders - Der HerzKreis - Qigong für ein entspanntes Herz (ZG30530) 
LOCATION:Op, VHS-Außenstelle Schusterinsel, EG Raum 3, Bewegungsraum, Brückenstr. 18-20, 51379 Leverkusen
END:VEVENT
END:VCALENDAR