BEGIN:VCALENDAR
VERSION:2.0
PRODID:https://www.kufer.de/kuferweb / DE
METHOD:PUBLISH
CALSCALE:GREGORIAN
X-WR-TIMEZONE:Europe/Berlin
BEGIN:VTIMEZONE
TZID:Europe/Berlin
X-LIC-LOCATION:Europe/Berlin
BEGIN:DAYLIGHT
TZOFFSETFROM:+0100
TZOFFSETTO:+0200
TZNAME:CEST
DTSTART:19700329T020000
RRULE:FREQ=YEARLY;INTERVAL=1;BYDAY=-1SU;BYMONTH=3
END:DAYLIGHT
BEGIN:STANDARD
TZOFFSETFROM:+0200
TZOFFSETTO:+0100
TZNAME:CET
DTSTART:19701025T030000
RRULE:FREQ=YEARLY;INTERVAL=1;BYDAY=-1SU;BYMONTH=10
END:STANDARD
END:VTIMEZONE
BEGIN:VEVENT
DTSTAMP:20260424T131811
DTSTART;TZID=Europe/Berlin:20260313T111500
DTEND;TZID=Europe/Berlin:20260313T121500
UID:ZG30600-20260313T111500@VHSLEVERKUSEN
SUMMARY:Pilates (ZG30600) 
LOCATION:Op, VHS-Außenstelle Schusterinsel, EG Raum 3, Bewegungsraum, Brückenstr. 18-20, 51379 Leverkusen
END:VEVENT
BEGIN:VEVENT
DTSTAMP:20260424T131811
DTSTART;TZID=Europe/Berlin:20260320T111500
DTEND;TZID=Europe/Berlin:20260320T121500
UID:ZG30600-20260320T111500@VHSLEVERKUSEN
SUMMARY:Pilates (ZG30600) 
LOCATION:Op, VHS-Außenstelle Schusterinsel, EG Raum 3, Bewegungsraum, Brückenstr. 18-20, 51379 Leverkusen
END:VEVENT
BEGIN:VEVENT
DTSTAMP:20260424T131811
DTSTART;TZID=Europe/Berlin:20260327T111500
DTEND;TZID=Europe/Berlin:20260327T121500
UID:ZG30600-20260327T111500@VHSLEVERKUSEN
SUMMARY:Pilates (ZG30600) 
LOCATION:Op, VHS-Außenstelle Schusterinsel, EG Raum 3, Bewegungsraum, Brückenstr. 18-20, 51379 Leverkusen
END:VEVENT
BEGIN:VEVENT
DTSTAMP:20260424T131811
DTSTART;TZID=Europe/Berlin:20260417T111500
DTEND;TZID=Europe/Berlin:20260417T121500
UID:ZG30600-20260417T111500@VHSLEVERKUSEN
SUMMARY:Pilates (ZG30600) 
LOCATION:Op, VHS-Außenstelle Schusterinsel, EG Raum 3, Bewegungsraum, Brückenstr. 18-20, 51379 Leverkusen
END:VEVENT
BEGIN:VEVENT
DTSTAMP:20260424T131811
DTSTART;TZID=Europe/Berlin:20260424T111500
DTEND;TZID=Europe/Berlin:20260424T121500
UID:ZG30600-20260424T111500@VHSLEVERKUSEN
SUMMARY:Pilates (ZG30600) 
LOCATION:Op, VHS-Außenstelle Schusterinsel, EG Raum 3, Bewegungsraum, Brückenstr. 18-20, 51379 Leverkusen
END:VEVENT
BEGIN:VEVENT
DTSTAMP:20260424T131811
DTSTART;TZID=Europe/Berlin:20260508T111500
DTEND;TZID=Europe/Berlin:20260508T121500
UID:ZG30600-20260508T111500@VHSLEVERKUSEN
SUMMARY:Pilates (ZG30600) 
LOCATION:Op, VHS-Außenstelle Schusterinsel, EG Raum 3, Bewegungsraum, Brückenstr. 18-20, 51379 Leverkusen
END:VEVENT
BEGIN:VEVENT
DTSTAMP:20260424T131811
DTSTART;TZID=Europe/Berlin:20260522T111500
DTEND;TZID=Europe/Berlin:20260522T121500
UID:ZG30600-20260522T111500@VHSLEVERKUSEN
SUMMARY:Pilates (ZG30600) 
LOCATION:Op, VHS-Außenstelle Schusterinsel, EG Raum 3, Bewegungsraum, Brückenstr. 18-20, 51379 Leverkusen
END:VEVENT
BEGIN:VEVENT
DTSTAMP:20260424T131811
DTSTART;TZID=Europe/Berlin:20260529T111500
DTEND;TZID=Europe/Berlin:20260529T121500
UID:ZG30600-20260529T111500@VHSLEVERKUSEN
SUMMARY:Pilates (ZG30600) 
LOCATION:Op, VHS-Außenstelle Schusterinsel, EG Raum 3, Bewegungsraum, Brückenstr. 18-20, 51379 Leverkusen
END:VEVENT
BEGIN:VEVENT
DTSTAMP:20260424T131811
DTSTART;TZID=Europe/Berlin:20260612T111500
DTEND;TZID=Europe/Berlin:20260612T121500
UID:ZG30600-20260612T111500@VHSLEVERKUSEN
SUMMARY:Pilates (ZG30600) 
LOCATION:Op, VHS-Außenstelle Schusterinsel, EG Raum 3, Bewegungsraum, Brückenstr. 18-20, 51379 Leverkusen
END:VEVENT
BEGIN:VEVENT
DTSTAMP:20260424T131811
DTSTART;TZID=Europe/Berlin:20260619T111500
DTEND;TZID=Europe/Berlin:20260619T121500
UID:ZG30600-20260619T111500@VHSLEVERKUSEN
SUMMARY:Pilates (ZG30600) 
LOCATION:Op, VHS-Außenstelle Schusterinsel, EG Raum 3, Bewegungsraum, Brückenstr. 18-20, 51379 Leverkusen
END:VEVENT
END:VCALENDAR