BEGIN:VCALENDAR
VERSION:2.0
PRODID:https://www.kufer.de/kuferweb / DE
METHOD:PUBLISH
CALSCALE:GREGORIAN
X-WR-TIMEZONE:Europe/Berlin
BEGIN:VTIMEZONE
TZID:Europe/Berlin
X-LIC-LOCATION:Europe/Berlin
BEGIN:DAYLIGHT
TZOFFSETFROM:+0100
TZOFFSETTO:+0200
TZNAME:CEST
DTSTART:19700329T020000
RRULE:FREQ=YEARLY;INTERVAL=1;BYDAY=-1SU;BYMONTH=3
END:DAYLIGHT
BEGIN:STANDARD
TZOFFSETFROM:+0200
TZOFFSETTO:+0100
TZNAME:CET
DTSTART:19701025T030000
RRULE:FREQ=YEARLY;INTERVAL=1;BYDAY=-1SU;BYMONTH=10
END:STANDARD
END:VTIMEZONE
BEGIN:VEVENT
DTSTAMP:20260424T115817
DTSTART;TZID=Europe/Berlin:20260310T180500
DTEND;TZID=Europe/Berlin:20260310T193500
UID:ZG30650-20260310T180500@VHSLEVERKUSEN
SUMMARY:Feldenkrais®-Methode am Abend Bewusstheit durch Bewegung (ZG30650) 
LOCATION:Wiesdorf, Musikschule, VHS-Unterrichtsräume, Studio, Fr.-Ebert-Str, Fr.-Ebert-Straße 41 a, 51373 Leverkusen
END:VEVENT
BEGIN:VEVENT
DTSTAMP:20260424T115817
DTSTART;TZID=Europe/Berlin:20260317T180500
DTEND;TZID=Europe/Berlin:20260317T193500
UID:ZG30650-20260317T180500@VHSLEVERKUSEN
SUMMARY:Feldenkrais®-Methode am Abend Bewusstheit durch Bewegung (ZG30650) 
LOCATION:Wiesdorf, Musikschule, VHS-Unterrichtsräume, Studio, Fr.-Ebert-Str, Fr.-Ebert-Straße 41 a, 51373 Leverkusen
END:VEVENT
BEGIN:VEVENT
DTSTAMP:20260424T115817
DTSTART;TZID=Europe/Berlin:20260324T180500
DTEND;TZID=Europe/Berlin:20260324T193500
UID:ZG30650-20260324T180500@VHSLEVERKUSEN
SUMMARY:Feldenkrais®-Methode am Abend Bewusstheit durch Bewegung (ZG30650) 
LOCATION:Wiesdorf, Musikschule, VHS-Unterrichtsräume, Studio, Fr.-Ebert-Str, Fr.-Ebert-Straße 41 a, 51373 Leverkusen
END:VEVENT
BEGIN:VEVENT
DTSTAMP:20260424T115817
DTSTART;TZID=Europe/Berlin:20260414T180500
DTEND;TZID=Europe/Berlin:20260414T193500
UID:ZG30650-20260414T180500@VHSLEVERKUSEN
SUMMARY:Feldenkrais®-Methode am Abend Bewusstheit durch Bewegung (ZG30650) 
LOCATION:Wiesdorf, Musikschule, VHS-Unterrichtsräume, Studio, Fr.-Ebert-Str, Fr.-Ebert-Straße 41 a, 51373 Leverkusen
END:VEVENT
BEGIN:VEVENT
DTSTAMP:20260424T115817
DTSTART;TZID=Europe/Berlin:20260421T180500
DTEND;TZID=Europe/Berlin:20260421T193500
UID:ZG30650-20260421T180500@VHSLEVERKUSEN
SUMMARY:Feldenkrais®-Methode am Abend Bewusstheit durch Bewegung (ZG30650) 
LOCATION:Wiesdorf, Musikschule, VHS-Unterrichtsräume, Studio, Fr.-Ebert-Str, Fr.-Ebert-Straße 41 a, 51373 Leverkusen
END:VEVENT
BEGIN:VEVENT
DTSTAMP:20260424T115817
DTSTART;TZID=Europe/Berlin:20260428T180500
DTEND;TZID=Europe/Berlin:20260428T193500
UID:ZG30650-20260428T180500@VHSLEVERKUSEN
SUMMARY:Feldenkrais®-Methode am Abend Bewusstheit durch Bewegung (ZG30650) 
LOCATION:Wiesdorf, Musikschule, VHS-Unterrichtsräume, Studio, Fr.-Ebert-Str, Fr.-Ebert-Straße 41 a, 51373 Leverkusen
END:VEVENT
BEGIN:VEVENT
DTSTAMP:20260424T115817
DTSTART;TZID=Europe/Berlin:20260505T180500
DTEND;TZID=Europe/Berlin:20260505T193500
UID:ZG30650-20260505T180500@VHSLEVERKUSEN
SUMMARY:Feldenkrais®-Methode am Abend Bewusstheit durch Bewegung (ZG30650) 
LOCATION:Wiesdorf, Musikschule, VHS-Unterrichtsräume, Studio, Fr.-Ebert-Str, Fr.-Ebert-Straße 41 a, 51373 Leverkusen
END:VEVENT
BEGIN:VEVENT
DTSTAMP:20260424T115817
DTSTART;TZID=Europe/Berlin:20260512T180500
DTEND;TZID=Europe/Berlin:20260512T193500
UID:ZG30650-20260512T180500@VHSLEVERKUSEN
SUMMARY:Feldenkrais®-Methode am Abend Bewusstheit durch Bewegung (ZG30650) 
LOCATION:Wiesdorf, Musikschule, VHS-Unterrichtsräume, Studio, Fr.-Ebert-Str, Fr.-Ebert-Straße 41 a, 51373 Leverkusen
END:VEVENT
BEGIN:VEVENT
DTSTAMP:20260424T115817
DTSTART;TZID=Europe/Berlin:20260519T180500
DTEND;TZID=Europe/Berlin:20260519T193500
UID:ZG30650-20260519T180500@VHSLEVERKUSEN
SUMMARY:Feldenkrais®-Methode am Abend Bewusstheit durch Bewegung (ZG30650) 
LOCATION:Wiesdorf, Musikschule, VHS-Unterrichtsräume, Studio, Fr.-Ebert-Str, Fr.-Ebert-Straße 41 a, 51373 Leverkusen
END:VEVENT
BEGIN:VEVENT
DTSTAMP:20260424T115817
DTSTART;TZID=Europe/Berlin:20260609T180500
DTEND;TZID=Europe/Berlin:20260609T193500
UID:ZG30650-20260609T180500@VHSLEVERKUSEN
SUMMARY:Feldenkrais®-Methode am Abend Bewusstheit durch Bewegung (ZG30650) 
LOCATION:Wiesdorf, Musikschule, VHS-Unterrichtsräume, Studio, Fr.-Ebert-Str, Fr.-Ebert-Straße 41 a, 51373 Leverkusen
END:VEVENT
BEGIN:VEVENT
DTSTAMP:20260424T115817
DTSTART;TZID=Europe/Berlin:20260616T180500
DTEND;TZID=Europe/Berlin:20260616T193500
UID:ZG30650-20260616T180500@VHSLEVERKUSEN
SUMMARY:Feldenkrais®-Methode am Abend Bewusstheit durch Bewegung (ZG30650) 
LOCATION:Wiesdorf, Musikschule, VHS-Unterrichtsräume, Studio, Fr.-Ebert-Str, Fr.-Ebert-Straße 41 a, 51373 Leverkusen
END:VEVENT
BEGIN:VEVENT
DTSTAMP:20260424T115817
DTSTART;TZID=Europe/Berlin:20260623T180500
DTEND;TZID=Europe/Berlin:20260623T193500
UID:ZG30650-20260623T180500@VHSLEVERKUSEN
SUMMARY:Feldenkrais®-Methode am Abend Bewusstheit durch Bewegung (ZG30650) 
LOCATION:Wiesdorf, Musikschule, VHS-Unterrichtsräume, Studio, Fr.-Ebert-Str, Fr.-Ebert-Straße 41 a, 51373 Leverkusen
END:VEVENT
BEGIN:VEVENT
DTSTAMP:20260424T115817
DTSTART;TZID=Europe/Berlin:20260630T180500
DTEND;TZID=Europe/Berlin:20260630T193500
UID:ZG30650-20260630T180500@VHSLEVERKUSEN
SUMMARY:Feldenkrais®-Methode am Abend Bewusstheit durch Bewegung (ZG30650) 
LOCATION:Wiesdorf, Musikschule, VHS-Unterrichtsräume, Studio, Fr.-Ebert-Str, Fr.-Ebert-Straße 41 a, 51373 Leverkusen
END:VEVENT
END:VCALENDAR