BEGIN:VCALENDAR
VERSION:2.0
PRODID:https://www.kufer.de/kuferweb / DE
METHOD:PUBLISH
CALSCALE:GREGORIAN
X-WR-TIMEZONE:Europe/Berlin
BEGIN:VTIMEZONE
TZID:Europe/Berlin
X-LIC-LOCATION:Europe/Berlin
BEGIN:DAYLIGHT
TZOFFSETFROM:+0100
TZOFFSETTO:+0200
TZNAME:CEST
DTSTART:19700329T020000
RRULE:FREQ=YEARLY;INTERVAL=1;BYDAY=-1SU;BYMONTH=3
END:DAYLIGHT
BEGIN:STANDARD
TZOFFSETFROM:+0200
TZOFFSETTO:+0100
TZNAME:CET
DTSTART:19701025T030000
RRULE:FREQ=YEARLY;INTERVAL=1;BYDAY=-1SU;BYMONTH=10
END:STANDARD
END:VTIMEZONE
BEGIN:VEVENT
DTSTAMP:20260423T220658
DTSTART;TZID=Europe/Berlin:20260417T173000
DTEND;TZID=Europe/Berlin:20260417T200000
UID:ZG30670-20260417T173000@VHSLEVERKUSEN
SUMMARY:MBSR® - Stressbewältigung durch Achtsamkeit (ZG30670) 
LOCATION:Wiesdorf, Musikschule, VHS-Unterrichtsräume, Studio, Fr.-Ebert-Str, Fr.-Ebert-Straße 41 a, 51373 Leverkusen
END:VEVENT
BEGIN:VEVENT
DTSTAMP:20260423T220658
DTSTART;TZID=Europe/Berlin:20260424T173000
DTEND;TZID=Europe/Berlin:20260424T200000
UID:ZG30670-20260424T173000@VHSLEVERKUSEN
SUMMARY:MBSR® - Stressbewältigung durch Achtsamkeit (ZG30670) 
LOCATION:Wiesdorf, Musikschule, VHS-Unterrichtsräume, Studio, Fr.-Ebert-Str, Fr.-Ebert-Straße 41 a, 51373 Leverkusen
END:VEVENT
BEGIN:VEVENT
DTSTAMP:20260423T220658
DTSTART;TZID=Europe/Berlin:20260508T173000
DTEND;TZID=Europe/Berlin:20260508T200000
UID:ZG30670-20260508T173000@VHSLEVERKUSEN
SUMMARY:MBSR® - Stressbewältigung durch Achtsamkeit (ZG30670) 
LOCATION:Wiesdorf, Musikschule, VHS-Unterrichtsräume, Studio, Fr.-Ebert-Str, Fr.-Ebert-Straße 41 a, 51373 Leverkusen
END:VEVENT
BEGIN:VEVENT
DTSTAMP:20260423T220658
DTSTART;TZID=Europe/Berlin:20260529T173000
DTEND;TZID=Europe/Berlin:20260529T200000
UID:ZG30670-20260529T173000@VHSLEVERKUSEN
SUMMARY:MBSR® - Stressbewältigung durch Achtsamkeit (ZG30670) 
LOCATION:Wiesdorf, Musikschule, VHS-Unterrichtsräume, Studio, Fr.-Ebert-Str, Fr.-Ebert-Straße 41 a, 51373 Leverkusen
END:VEVENT
BEGIN:VEVENT
DTSTAMP:20260423T220658
DTSTART;TZID=Europe/Berlin:20260612T173000
DTEND;TZID=Europe/Berlin:20260612T200000
UID:ZG30670-20260612T173000@VHSLEVERKUSEN
SUMMARY:MBSR® - Stressbewältigung durch Achtsamkeit (ZG30670) 
LOCATION:Wiesdorf, Musikschule, VHS-Unterrichtsräume, Studio, Fr.-Ebert-Str, Fr.-Ebert-Straße 41 a, 51373 Leverkusen
END:VEVENT
BEGIN:VEVENT
DTSTAMP:20260423T220658
DTSTART;TZID=Europe/Berlin:20260626T173000
DTEND;TZID=Europe/Berlin:20260626T200000
UID:ZG30670-20260626T173000@VHSLEVERKUSEN
SUMMARY:MBSR® - Stressbewältigung durch Achtsamkeit (ZG30670) 
LOCATION:Wiesdorf, Musikschule, VHS-Unterrichtsräume, Studio, Fr.-Ebert-Str, Fr.-Ebert-Straße 41 a, 51373 Leverkusen
END:VEVENT
BEGIN:VEVENT
DTSTAMP:20260423T220658
DTSTART;TZID=Europe/Berlin:20260627T100000
DTEND;TZID=Europe/Berlin:20260627T160000
UID:ZG30670-20260627T100000@VHSLEVERKUSEN
DESCRIPTION:Achtsamkeitstag
SUMMARY:MBSR® - Stressbewältigung durch Achtsamkeit (ZG30670) 
LOCATION:Wiesdorf, Musikschule, VHS-Unterrichtsräume, Studio, Fr.-Ebert-Str, Fr.-Ebert-Straße 41 a, 51373 Leverkusen
END:VEVENT
BEGIN:VEVENT
DTSTAMP:20260423T220658
DTSTART;TZID=Europe/Berlin:20260703T173000
DTEND;TZID=Europe/Berlin:20260703T200000
UID:ZG30670-20260703T173000@VHSLEVERKUSEN
SUMMARY:MBSR® - Stressbewältigung durch Achtsamkeit (ZG30670) 
LOCATION:Wiesdorf, Musikschule, VHS-Unterrichtsräume, Studio, Fr.-Ebert-Str, Fr.-Ebert-Straße 41 a, 51373 Leverkusen
END:VEVENT
BEGIN:VEVENT
DTSTAMP:20260423T220658
DTSTART;TZID=Europe/Berlin:20260710T173000
DTEND;TZID=Europe/Berlin:20260710T200000
UID:ZG30670-20260710T173000@VHSLEVERKUSEN
SUMMARY:MBSR® - Stressbewältigung durch Achtsamkeit (ZG30670) 
LOCATION:Wiesdorf, Musikschule, VHS-Unterrichtsräume, Studio, Fr.-Ebert-Str, Fr.-Ebert-Straße 41 a, 51373 Leverkusen
END:VEVENT
BEGIN:VEVENT
DTSTAMP:20260423T220658
DTSTART;TZID=Europe/Berlin:20260904T173000
DTEND;TZID=Europe/Berlin:20260904T200000
UID:ZG30670-20260904T173000@VHSLEVERKUSEN
DESCRIPTION:Nachbesprechung
SUMMARY:MBSR® - Stressbewältigung durch Achtsamkeit (ZG30670) 
LOCATION:Wiesdorf, Musikschule, VHS-Unterrichtsräume, Studio, Fr.-Ebert-Str, Fr.-Ebert-Straße 41 a, 51373 Leverkusen
END:VEVENT
END:VCALENDAR