BEGIN:VCALENDAR
VERSION:2.0
PRODID:https://www.kufer.de/kuferweb / DE
METHOD:PUBLISH
CALSCALE:GREGORIAN
X-WR-TIMEZONE:Europe/Berlin
BEGIN:VTIMEZONE
TZID:Europe/Berlin
X-LIC-LOCATION:Europe/Berlin
BEGIN:DAYLIGHT
TZOFFSETFROM:+0100
TZOFFSETTO:+0200
TZNAME:CEST
DTSTART:19700329T020000
RRULE:FREQ=YEARLY;INTERVAL=1;BYDAY=-1SU;BYMONTH=3
END:DAYLIGHT
BEGIN:STANDARD
TZOFFSETFROM:+0200
TZOFFSETTO:+0100
TZNAME:CET
DTSTART:19701025T030000
RRULE:FREQ=YEARLY;INTERVAL=1;BYDAY=-1SU;BYMONTH=10
END:STANDARD
END:VTIMEZONE
BEGIN:VEVENT
DTSTAMP:20260421T093313
DTSTART;TZID=Europe/Berlin:20260831T090000
DTEND;TZID=Europe/Berlin:20260831T143000
UID:ZG40040BU-20260831T090000@VHSLEVERKUSEN
SUMMARY:Englisch im Berufsalltag: Office and Communication B1 (ZG40040BU) 
LOCATION:Op, VHS-Außenstelle Schusterinsel, EG Raum 4, Brückenstr. 18-20, 51379 Leverkusen
END:VEVENT
BEGIN:VEVENT
DTSTAMP:20260421T093313
DTSTART;TZID=Europe/Berlin:20260901T090000
DTEND;TZID=Europe/Berlin:20260901T143000
UID:ZG40040BU-20260901T090000@VHSLEVERKUSEN
SUMMARY:Englisch im Berufsalltag: Office and Communication B1 (ZG40040BU) 
LOCATION:Op, VHS-Außenstelle Schusterinsel, EG Raum 4, Brückenstr. 18-20, 51379 Leverkusen
END:VEVENT
BEGIN:VEVENT
DTSTAMP:20260421T093313
DTSTART;TZID=Europe/Berlin:20260902T090000
DTEND;TZID=Europe/Berlin:20260902T143000
UID:ZG40040BU-20260902T090000@VHSLEVERKUSEN
SUMMARY:Englisch im Berufsalltag: Office and Communication B1 (ZG40040BU) 
LOCATION:Op, VHS-Außenstelle Schusterinsel, EG Raum 4, Brückenstr. 18-20, 51379 Leverkusen
END:VEVENT
BEGIN:VEVENT
DTSTAMP:20260421T093313
DTSTART;TZID=Europe/Berlin:20260903T090000
DTEND;TZID=Europe/Berlin:20260903T143000
UID:ZG40040BU-20260903T090000@VHSLEVERKUSEN
SUMMARY:Englisch im Berufsalltag: Office and Communication B1 (ZG40040BU) 
LOCATION:Op, VHS-Außenstelle Schusterinsel, EG Raum 4, Brückenstr. 18-20, 51379 Leverkusen
END:VEVENT
BEGIN:VEVENT
DTSTAMP:20260421T093313
DTSTART;TZID=Europe/Berlin:20260904T090000
DTEND;TZID=Europe/Berlin:20260904T143000
UID:ZG40040BU-20260904T090000@VHSLEVERKUSEN
SUMMARY:Englisch im Berufsalltag: Office and Communication B1 (ZG40040BU) 
LOCATION:Op, VHS-Außenstelle Schusterinsel, EG Raum 4, Brückenstr. 18-20, 51379 Leverkusen
END:VEVENT
END:VCALENDAR