BEGIN:VCALENDAR
VERSION:2.0
PRODID:https://www.kufer.de/kuferweb / DE
METHOD:PUBLISH
CALSCALE:GREGORIAN
X-WR-TIMEZONE:Europe/Berlin
BEGIN:VTIMEZONE
TZID:Europe/Berlin
X-LIC-LOCATION:Europe/Berlin
BEGIN:DAYLIGHT
TZOFFSETFROM:+0100
TZOFFSETTO:+0200
TZNAME:CEST
DTSTART:19700329T020000
RRULE:FREQ=YEARLY;INTERVAL=1;BYDAY=-1SU;BYMONTH=3
END:DAYLIGHT
BEGIN:STANDARD
TZOFFSETFROM:+0200
TZOFFSETTO:+0100
TZNAME:CET
DTSTART:19701025T030000
RRULE:FREQ=YEARLY;INTERVAL=1;BYDAY=-1SU;BYMONTH=10
END:STANDARD
END:VTIMEZONE
BEGIN:VEVENT
DTSTAMP:20260424T131848
DTSTART;TZID=Europe/Berlin:20260310T103000
DTEND;TZID=Europe/Berlin:20260310T120000
UID:ZG40150-20260310T103000@VHSLEVERKUSEN
SUMMARY:English B1: Talk smart - English Conversation for Real life (ZG40150) 
LOCATION:Wiesdorf, Musikschule, VHS-Unterrichtsräume, Seminarraum 1, Friedrich-Ebert-Straße 41 a, 51373 Leverkusen
END:VEVENT
BEGIN:VEVENT
DTSTAMP:20260424T131848
DTSTART;TZID=Europe/Berlin:20260317T103000
DTEND;TZID=Europe/Berlin:20260317T120000
UID:ZG40150-20260317T103000@VHSLEVERKUSEN
SUMMARY:English B1: Talk smart - English Conversation for Real life (ZG40150) 
LOCATION:Wiesdorf, Musikschule, VHS-Unterrichtsräume, Seminarraum 1, Friedrich-Ebert-Straße 41 a, 51373 Leverkusen
END:VEVENT
BEGIN:VEVENT
DTSTAMP:20260424T131848
DTSTART;TZID=Europe/Berlin:20260324T103000
DTEND;TZID=Europe/Berlin:20260324T120000
UID:ZG40150-20260324T103000@VHSLEVERKUSEN
SUMMARY:English B1: Talk smart - English Conversation for Real life (ZG40150) 
LOCATION:Wiesdorf, Musikschule, VHS-Unterrichtsräume, Seminarraum 1, Friedrich-Ebert-Straße 41 a, 51373 Leverkusen
END:VEVENT
BEGIN:VEVENT
DTSTAMP:20260424T131848
DTSTART;TZID=Europe/Berlin:20260414T103000
DTEND;TZID=Europe/Berlin:20260414T120000
UID:ZG40150-20260414T103000@VHSLEVERKUSEN
SUMMARY:English B1: Talk smart - English Conversation for Real life (ZG40150) 
LOCATION:Wiesdorf, Musikschule, VHS-Unterrichtsräume, Seminarraum 1, Friedrich-Ebert-Straße 41 a, 51373 Leverkusen
END:VEVENT
BEGIN:VEVENT
DTSTAMP:20260424T131848
DTSTART;TZID=Europe/Berlin:20260421T103000
DTEND;TZID=Europe/Berlin:20260421T120000
UID:ZG40150-20260421T103000@VHSLEVERKUSEN
SUMMARY:English B1: Talk smart - English Conversation for Real life (ZG40150) 
LOCATION:Wiesdorf, Musikschule, VHS-Unterrichtsräume, Seminarraum 1, Friedrich-Ebert-Straße 41 a, 51373 Leverkusen
END:VEVENT
BEGIN:VEVENT
DTSTAMP:20260424T131848
DTSTART;TZID=Europe/Berlin:20260428T103000
DTEND;TZID=Europe/Berlin:20260428T120000
UID:ZG40150-20260428T103000@VHSLEVERKUSEN
SUMMARY:English B1: Talk smart - English Conversation for Real life (ZG40150) 
LOCATION:Wiesdorf, Musikschule, VHS-Unterrichtsräume, Seminarraum 1, Friedrich-Ebert-Straße 41 a, 51373 Leverkusen
END:VEVENT
BEGIN:VEVENT
DTSTAMP:20260424T131848
DTSTART;TZID=Europe/Berlin:20260505T103000
DTEND;TZID=Europe/Berlin:20260505T120000
UID:ZG40150-20260505T103000@VHSLEVERKUSEN
SUMMARY:English B1: Talk smart - English Conversation for Real life (ZG40150) 
LOCATION:Wiesdorf, Musikschule, VHS-Unterrichtsräume, Seminarraum 1, Friedrich-Ebert-Straße 41 a, 51373 Leverkusen
END:VEVENT
BEGIN:VEVENT
DTSTAMP:20260424T131848
DTSTART;TZID=Europe/Berlin:20260512T103000
DTEND;TZID=Europe/Berlin:20260512T120000
UID:ZG40150-20260512T103000@VHSLEVERKUSEN
SUMMARY:English B1: Talk smart - English Conversation for Real life (ZG40150) 
LOCATION:Wiesdorf, Musikschule, VHS-Unterrichtsräume, Seminarraum 1, Friedrich-Ebert-Straße 41 a, 51373 Leverkusen
END:VEVENT
BEGIN:VEVENT
DTSTAMP:20260424T131848
DTSTART;TZID=Europe/Berlin:20260519T103000
DTEND;TZID=Europe/Berlin:20260519T120000
UID:ZG40150-20260519T103000@VHSLEVERKUSEN
SUMMARY:English B1: Talk smart - English Conversation for Real life (ZG40150) 
LOCATION:Wiesdorf, Musikschule, VHS-Unterrichtsräume, Seminarraum 1, Friedrich-Ebert-Straße 41 a, 51373 Leverkusen
END:VEVENT
BEGIN:VEVENT
DTSTAMP:20260424T131848
DTSTART;TZID=Europe/Berlin:20260602T103000
DTEND;TZID=Europe/Berlin:20260602T120000
UID:ZG40150-20260602T103000@VHSLEVERKUSEN
SUMMARY:English B1: Talk smart - English Conversation for Real life (ZG40150) 
LOCATION:Wiesdorf, Musikschule, VHS-Unterrichtsräume, Seminarraum 1, Friedrich-Ebert-Straße 41 a, 51373 Leverkusen
END:VEVENT
BEGIN:VEVENT
DTSTAMP:20260424T131848
DTSTART;TZID=Europe/Berlin:20260609T103000
DTEND;TZID=Europe/Berlin:20260609T120000
UID:ZG40150-20260609T103000@VHSLEVERKUSEN
SUMMARY:English B1: Talk smart - English Conversation for Real life (ZG40150) 
LOCATION:Wiesdorf, Musikschule, VHS-Unterrichtsräume, Seminarraum 1, Friedrich-Ebert-Straße 41 a, 51373 Leverkusen
END:VEVENT
BEGIN:VEVENT
DTSTAMP:20260424T131848
DTSTART;TZID=Europe/Berlin:20260616T103000
DTEND;TZID=Europe/Berlin:20260616T120000
UID:ZG40150-20260616T103000@VHSLEVERKUSEN
SUMMARY:English B1: Talk smart - English Conversation for Real life (ZG40150) 
LOCATION:Wiesdorf, Musikschule, VHS-Unterrichtsräume, Seminarraum 1, Friedrich-Ebert-Straße 41 a, 51373 Leverkusen
END:VEVENT
BEGIN:VEVENT
DTSTAMP:20260424T131848
DTSTART;TZID=Europe/Berlin:20260623T103000
DTEND;TZID=Europe/Berlin:20260623T120000
UID:ZG40150-20260623T103000@VHSLEVERKUSEN
SUMMARY:English B1: Talk smart - English Conversation for Real life (ZG40150) 
LOCATION:Wiesdorf, Musikschule, VHS-Unterrichtsräume, Seminarraum 1, Friedrich-Ebert-Straße 41 a, 51373 Leverkusen
END:VEVENT
BEGIN:VEVENT
DTSTAMP:20260424T131848
DTSTART;TZID=Europe/Berlin:20260630T103000
DTEND;TZID=Europe/Berlin:20260630T120000
UID:ZG40150-20260630T103000@VHSLEVERKUSEN
SUMMARY:English B1: Talk smart - English Conversation for Real life (ZG40150) 
LOCATION:Wiesdorf, Musikschule, VHS-Unterrichtsräume, Seminarraum 1, Friedrich-Ebert-Straße 41 a, 51373 Leverkusen
END:VEVENT
BEGIN:VEVENT
DTSTAMP:20260424T131848
DTSTART;TZID=Europe/Berlin:20260707T103000
DTEND;TZID=Europe/Berlin:20260707T120000
UID:ZG40150-20260707T103000@VHSLEVERKUSEN
SUMMARY:English B1: Talk smart - English Conversation for Real life (ZG40150) 
LOCATION:Wiesdorf, Musikschule, VHS-Unterrichtsräume, Seminarraum 1, Friedrich-Ebert-Straße 41 a, 51373 Leverkusen
END:VEVENT
END:VCALENDAR