BEGIN:VCALENDAR
VERSION:2.0
PRODID:https://www.kufer.de/kuferweb / DE
METHOD:PUBLISH
CALSCALE:GREGORIAN
X-WR-TIMEZONE:Europe/Berlin
BEGIN:VTIMEZONE
TZID:Europe/Berlin
X-LIC-LOCATION:Europe/Berlin
BEGIN:DAYLIGHT
TZOFFSETFROM:+0100
TZOFFSETTO:+0200
TZNAME:CEST
DTSTART:19700329T020000
RRULE:FREQ=YEARLY;INTERVAL=1;BYDAY=-1SU;BYMONTH=3
END:DAYLIGHT
BEGIN:STANDARD
TZOFFSETFROM:+0200
TZOFFSETTO:+0100
TZNAME:CET
DTSTART:19701025T030000
RRULE:FREQ=YEARLY;INTERVAL=1;BYDAY=-1SU;BYMONTH=10
END:STANDARD
END:VTIMEZONE
BEGIN:VEVENT
DTSTAMP:20260424T131846
DTSTART;TZID=Europe/Berlin:20260311T121500
DTEND;TZID=Europe/Berlin:20260311T134500
UID:ZG40240-20260311T121500@VHSLEVERKUSEN
SUMMARY:High Level Talk: English B2/C1 (ZG40240) 
LOCATION:Forum - Clubraum B, Am Büchelter Hof 9, 51373 Leverkusen
END:VEVENT
BEGIN:VEVENT
DTSTAMP:20260424T131846
DTSTART;TZID=Europe/Berlin:20260318T121500
DTEND;TZID=Europe/Berlin:20260318T134500
UID:ZG40240-20260318T121500@VHSLEVERKUSEN
SUMMARY:High Level Talk: English B2/C1 (ZG40240) 
LOCATION:Forum - Clubraum B, Am Büchelter Hof 9, 51373 Leverkusen
END:VEVENT
BEGIN:VEVENT
DTSTAMP:20260424T131846
DTSTART;TZID=Europe/Berlin:20260325T121500
DTEND;TZID=Europe/Berlin:20260325T134500
UID:ZG40240-20260325T121500@VHSLEVERKUSEN
SUMMARY:High Level Talk: English B2/C1 (ZG40240) 
LOCATION:Forum - Clubraum B, Am Büchelter Hof 9, 51373 Leverkusen
END:VEVENT
BEGIN:VEVENT
DTSTAMP:20260424T131846
DTSTART;TZID=Europe/Berlin:20260415T121500
DTEND;TZID=Europe/Berlin:20260415T134500
UID:ZG40240-20260415T121500@VHSLEVERKUSEN
SUMMARY:High Level Talk: English B2/C1 (ZG40240) 
LOCATION:Forum - Clubraum B, Am Büchelter Hof 9, 51373 Leverkusen
END:VEVENT
BEGIN:VEVENT
DTSTAMP:20260424T131846
DTSTART;TZID=Europe/Berlin:20260422T121500
DTEND;TZID=Europe/Berlin:20260422T134500
UID:ZG40240-20260422T121500@VHSLEVERKUSEN
SUMMARY:High Level Talk: English B2/C1 (ZG40240) 
LOCATION:Forum - Clubraum B, Am Büchelter Hof 9, 51373 Leverkusen
END:VEVENT
BEGIN:VEVENT
DTSTAMP:20260424T131846
DTSTART;TZID=Europe/Berlin:20260429T121500
DTEND;TZID=Europe/Berlin:20260429T134500
UID:ZG40240-20260429T121500@VHSLEVERKUSEN
SUMMARY:High Level Talk: English B2/C1 (ZG40240) 
LOCATION:Forum - Clubraum B, Am Büchelter Hof 9, 51373 Leverkusen
END:VEVENT
BEGIN:VEVENT
DTSTAMP:20260424T131846
DTSTART;TZID=Europe/Berlin:20260506T121500
DTEND;TZID=Europe/Berlin:20260506T134500
UID:ZG40240-20260506T121500@VHSLEVERKUSEN
SUMMARY:High Level Talk: English B2/C1 (ZG40240) 
LOCATION:Forum - Clubraum B, Am Büchelter Hof 9, 51373 Leverkusen
END:VEVENT
BEGIN:VEVENT
DTSTAMP:20260424T131846
DTSTART;TZID=Europe/Berlin:20260513T121500
DTEND;TZID=Europe/Berlin:20260513T134500
UID:ZG40240-20260513T121500@VHSLEVERKUSEN
SUMMARY:High Level Talk: English B2/C1 (ZG40240) 
LOCATION:Forum - Clubraum B, Am Büchelter Hof 9, 51373 Leverkusen
END:VEVENT
BEGIN:VEVENT
DTSTAMP:20260424T131846
DTSTART;TZID=Europe/Berlin:20260520T121500
DTEND;TZID=Europe/Berlin:20260520T134500
UID:ZG40240-20260520T121500@VHSLEVERKUSEN
SUMMARY:High Level Talk: English B2/C1 (ZG40240) 
LOCATION:Forum - Clubraum B, Am Büchelter Hof 9, 51373 Leverkusen
END:VEVENT
BEGIN:VEVENT
DTSTAMP:20260424T131846
DTSTART;TZID=Europe/Berlin:20260527T121500
DTEND;TZID=Europe/Berlin:20260527T134500
UID:ZG40240-20260527T121500@VHSLEVERKUSEN
SUMMARY:High Level Talk: English B2/C1 (ZG40240) 
LOCATION:Forum - Clubraum B, Am Büchelter Hof 9, 51373 Leverkusen
END:VEVENT
BEGIN:VEVENT
DTSTAMP:20260424T131846
DTSTART;TZID=Europe/Berlin:20260603T121500
DTEND;TZID=Europe/Berlin:20260603T134500
UID:ZG40240-20260603T121500@VHSLEVERKUSEN
SUMMARY:High Level Talk: English B2/C1 (ZG40240) 
LOCATION:Forum - Clubraum B, Am Büchelter Hof 9, 51373 Leverkusen
END:VEVENT
BEGIN:VEVENT
DTSTAMP:20260424T131846
DTSTART;TZID=Europe/Berlin:20260610T121500
DTEND;TZID=Europe/Berlin:20260610T134500
UID:ZG40240-20260610T121500@VHSLEVERKUSEN
SUMMARY:High Level Talk: English B2/C1 (ZG40240) 
LOCATION:Forum - Clubraum B, Am Büchelter Hof 9, 51373 Leverkusen
END:VEVENT
BEGIN:VEVENT
DTSTAMP:20260424T131846
DTSTART;TZID=Europe/Berlin:20260617T121500
DTEND;TZID=Europe/Berlin:20260617T134500
UID:ZG40240-20260617T121500@VHSLEVERKUSEN
SUMMARY:High Level Talk: English B2/C1 (ZG40240) 
LOCATION:Forum - Clubraum B, Am Büchelter Hof 9, 51373 Leverkusen
END:VEVENT
BEGIN:VEVENT
DTSTAMP:20260424T131846
DTSTART;TZID=Europe/Berlin:20260624T121500
DTEND;TZID=Europe/Berlin:20260624T134500
UID:ZG40240-20260624T121500@VHSLEVERKUSEN
SUMMARY:High Level Talk: English B2/C1 (ZG40240) 
LOCATION:Forum - Clubraum B, Am Büchelter Hof 9, 51373 Leverkusen
END:VEVENT
BEGIN:VEVENT
DTSTAMP:20260424T131846
DTSTART;TZID=Europe/Berlin:20260701T121500
DTEND;TZID=Europe/Berlin:20260701T134500
UID:ZG40240-20260701T121500@VHSLEVERKUSEN
SUMMARY:High Level Talk: English B2/C1 (ZG40240) 
LOCATION:Forum - Clubraum B, Am Büchelter Hof 9, 51373 Leverkusen
END:VEVENT
END:VCALENDAR