BEGIN:VCALENDAR
VERSION:2.0
PRODID:https://www.kufer.de/kuferweb / DE
METHOD:PUBLISH
CALSCALE:GREGORIAN
X-WR-TIMEZONE:Europe/Berlin
BEGIN:VTIMEZONE
TZID:Europe/Berlin
X-LIC-LOCATION:Europe/Berlin
BEGIN:DAYLIGHT
TZOFFSETFROM:+0100
TZOFFSETTO:+0200
TZNAME:CEST
DTSTART:19700329T020000
RRULE:FREQ=YEARLY;INTERVAL=1;BYDAY=-1SU;BYMONTH=3
END:DAYLIGHT
BEGIN:STANDARD
TZOFFSETFROM:+0200
TZOFFSETTO:+0100
TZNAME:CET
DTSTART:19701025T030000
RRULE:FREQ=YEARLY;INTERVAL=1;BYDAY=-1SU;BYMONTH=10
END:STANDARD
END:VTIMEZONE
BEGIN:VEVENT
DTSTAMP:20260424T115922
DTSTART;TZID=Europe/Berlin:20260619T180000
DTEND;TZID=Europe/Berlin:20260619T200000
UID:ZG42070-20260619T180000@VHSLEVERKUSEN
SUMMARY:Spanisch für den Sommer: Grundlagenkurs A1 (ZG42070) 
LOCATION:Forum - Clubraum D, Am Büchelter Hof 9, 51373 Leverkusen
END:VEVENT
BEGIN:VEVENT
DTSTAMP:20260424T115922
DTSTART;TZID=Europe/Berlin:20260620T093000
DTEND;TZID=Europe/Berlin:20260620T120000
UID:ZG42070-20260620T093000@VHSLEVERKUSEN
SUMMARY:Spanisch für den Sommer: Grundlagenkurs A1 (ZG42070) 
LOCATION:Forum - Clubraum D, Am Büchelter Hof 9, 51373 Leverkusen
END:VEVENT
BEGIN:VEVENT
DTSTAMP:20260424T115922
DTSTART;TZID=Europe/Berlin:20260626T180000
DTEND;TZID=Europe/Berlin:20260626T200000
UID:ZG42070-20260626T180000@VHSLEVERKUSEN
SUMMARY:Spanisch für den Sommer: Grundlagenkurs A1 (ZG42070) 
LOCATION:Forum - Clubraum D, Am Büchelter Hof 9, 51373 Leverkusen
END:VEVENT
BEGIN:VEVENT
DTSTAMP:20260424T115922
DTSTART;TZID=Europe/Berlin:20260627T093000
DTEND;TZID=Europe/Berlin:20260627T120000
UID:ZG42070-20260627T093000@VHSLEVERKUSEN
SUMMARY:Spanisch für den Sommer: Grundlagenkurs A1 (ZG42070) 
LOCATION:Forum - Clubraum D, Am Büchelter Hof 9, 51373 Leverkusen
END:VEVENT
END:VCALENDAR