BEGIN:VCALENDAR
VERSION:2.0
PRODID:https://www.kufer.de/kuferweb / DE
METHOD:PUBLISH
CALSCALE:GREGORIAN
X-WR-TIMEZONE:Europe/Berlin
BEGIN:VTIMEZONE
TZID:Europe/Berlin
X-LIC-LOCATION:Europe/Berlin
BEGIN:DAYLIGHT
TZOFFSETFROM:+0100
TZOFFSETTO:+0200
TZNAME:CEST
DTSTART:19700329T020000
RRULE:FREQ=YEARLY;INTERVAL=1;BYDAY=-1SU;BYMONTH=3
END:DAYLIGHT
BEGIN:STANDARD
TZOFFSETFROM:+0200
TZOFFSETTO:+0100
TZNAME:CET
DTSTART:19701025T030000
RRULE:FREQ=YEARLY;INTERVAL=1;BYDAY=-1SU;BYMONTH=10
END:STANDARD
END:VTIMEZONE
BEGIN:VEVENT
DTSTAMP:20260420T181126
DTSTART;TZID=Europe/Berlin:20260824T100000
DTEND;TZID=Europe/Berlin:20260824T150000
UID:ZG43020BU-20260824T100000@VHSLEVERKUSEN
SUMMARY:Italiano per Principianti A1 - Kompaktkurs Italienisch (ZG43020BU) 
LOCATION:Wiesdorf, Musikschule, VHS-Unterrichtsräume, Seminarraum 2, Friedrich-Ebert-Straße 41 a, 51373 Leverkusen
END:VEVENT
BEGIN:VEVENT
DTSTAMP:20260420T181126
DTSTART;TZID=Europe/Berlin:20260825T100000
DTEND;TZID=Europe/Berlin:20260825T150000
UID:ZG43020BU-20260825T100000@VHSLEVERKUSEN
SUMMARY:Italiano per Principianti A1 - Kompaktkurs Italienisch (ZG43020BU) 
LOCATION:Wiesdorf, Musikschule, VHS-Unterrichtsräume, Seminarraum 2, Friedrich-Ebert-Straße 41 a, 51373 Leverkusen
END:VEVENT
BEGIN:VEVENT
DTSTAMP:20260420T181126
DTSTART;TZID=Europe/Berlin:20260826T100000
DTEND;TZID=Europe/Berlin:20260826T150000
UID:ZG43020BU-20260826T100000@VHSLEVERKUSEN
SUMMARY:Italiano per Principianti A1 - Kompaktkurs Italienisch (ZG43020BU) 
LOCATION:Wiesdorf, Musikschule, VHS-Unterrichtsräume, Seminarraum 2, Friedrich-Ebert-Straße 41 a, 51373 Leverkusen
END:VEVENT
BEGIN:VEVENT
DTSTAMP:20260420T181126
DTSTART;TZID=Europe/Berlin:20260827T100000
DTEND;TZID=Europe/Berlin:20260827T150000
UID:ZG43020BU-20260827T100000@VHSLEVERKUSEN
SUMMARY:Italiano per Principianti A1 - Kompaktkurs Italienisch (ZG43020BU) 
LOCATION:Wiesdorf, Musikschule, VHS-Unterrichtsräume, Seminarraum 2, Friedrich-Ebert-Straße 41 a, 51373 Leverkusen
END:VEVENT
BEGIN:VEVENT
DTSTAMP:20260420T181126
DTSTART;TZID=Europe/Berlin:20260828T100000
DTEND;TZID=Europe/Berlin:20260828T150000
UID:ZG43020BU-20260828T100000@VHSLEVERKUSEN
SUMMARY:Italiano per Principianti A1 - Kompaktkurs Italienisch (ZG43020BU) 
LOCATION:Wiesdorf, Musikschule, VHS-Unterrichtsräume, Seminarraum 2, Friedrich-Ebert-Straße 41 a, 51373 Leverkusen
END:VEVENT
END:VCALENDAR