BEGIN:VCALENDAR
VERSION:2.0
PRODID:https://www.kufer.de/kuferweb / DE
METHOD:PUBLISH
CALSCALE:GREGORIAN
X-WR-TIMEZONE:Europe/Berlin
BEGIN:VTIMEZONE
TZID:Europe/Berlin
X-LIC-LOCATION:Europe/Berlin
BEGIN:DAYLIGHT
TZOFFSETFROM:+0100
TZOFFSETTO:+0200
TZNAME:CEST
DTSTART:19700329T020000
RRULE:FREQ=YEARLY;INTERVAL=1;BYDAY=-1SU;BYMONTH=3
END:DAYLIGHT
BEGIN:STANDARD
TZOFFSETFROM:+0200
TZOFFSETTO:+0100
TZNAME:CET
DTSTART:19701025T030000
RRULE:FREQ=YEARLY;INTERVAL=1;BYDAY=-1SU;BYMONTH=10
END:STANDARD
END:VTIMEZONE
BEGIN:VEVENT
DTSTAMP:20260424T115755
DTSTART;TZID=Europe/Berlin:20260312T170000
DTEND;TZID=Europe/Berlin:20260312T183000
UID:ZG44290-20260312T170000@VHSLEVERKUSEN
SUMMARY:Portugiesisch A1.3 (ZG44290) 
LOCATION:Forum - Clubraum B, Am Büchelter Hof 9, 51373 Leverkusen
END:VEVENT
BEGIN:VEVENT
DTSTAMP:20260424T115755
DTSTART;TZID=Europe/Berlin:20260319T170000
DTEND;TZID=Europe/Berlin:20260319T183000
UID:ZG44290-20260319T170000@VHSLEVERKUSEN
SUMMARY:Portugiesisch A1.3 (ZG44290) 
LOCATION:Forum - Clubraum B, Am Büchelter Hof 9, 51373 Leverkusen
END:VEVENT
BEGIN:VEVENT
DTSTAMP:20260424T115755
DTSTART;TZID=Europe/Berlin:20260326T170000
DTEND;TZID=Europe/Berlin:20260326T183000
UID:ZG44290-20260326T170000@VHSLEVERKUSEN
SUMMARY:Portugiesisch A1.3 (ZG44290) 
LOCATION:Forum - Clubraum B, Am Büchelter Hof 9, 51373 Leverkusen
END:VEVENT
BEGIN:VEVENT
DTSTAMP:20260424T115755
DTSTART;TZID=Europe/Berlin:20260416T170000
DTEND;TZID=Europe/Berlin:20260416T183000
UID:ZG44290-20260416T170000@VHSLEVERKUSEN
SUMMARY:Portugiesisch A1.3 (ZG44290) 
LOCATION:Forum - Clubraum B, Am Büchelter Hof 9, 51373 Leverkusen
END:VEVENT
BEGIN:VEVENT
DTSTAMP:20260424T115756
DTSTART;TZID=Europe/Berlin:20260423T170000
DTEND;TZID=Europe/Berlin:20260423T183000
UID:ZG44290-20260423T170000@VHSLEVERKUSEN
SUMMARY:Portugiesisch A1.3 (ZG44290) 
LOCATION:Forum - Clubraum B, Am Büchelter Hof 9, 51373 Leverkusen
END:VEVENT
BEGIN:VEVENT
DTSTAMP:20260424T115756
DTSTART;TZID=Europe/Berlin:20260430T170000
DTEND;TZID=Europe/Berlin:20260430T183000
UID:ZG44290-20260430T170000@VHSLEVERKUSEN
SUMMARY:Portugiesisch A1.3 (ZG44290) 
LOCATION:Wiesdorf, LMS, Raum 2.102, Am Stadtpark 50, Am Stadtpark 50, 51373 Leverkusen
END:VEVENT
BEGIN:VEVENT
DTSTAMP:20260424T115756
DTSTART;TZID=Europe/Berlin:20260507T170000
DTEND;TZID=Europe/Berlin:20260507T183000
UID:ZG44290-20260507T170000@VHSLEVERKUSEN
SUMMARY:Portugiesisch A1.3 (ZG44290) 
LOCATION:Forum - Clubraum B, Am Büchelter Hof 9, 51373 Leverkusen
END:VEVENT
BEGIN:VEVENT
DTSTAMP:20260424T115756
DTSTART;TZID=Europe/Berlin:20260521T170000
DTEND;TZID=Europe/Berlin:20260521T183000
UID:ZG44290-20260521T170000@VHSLEVERKUSEN
SUMMARY:Portugiesisch A1.3 (ZG44290) 
LOCATION:Forum - Clubraum B, Am Büchelter Hof 9, 51373 Leverkusen
END:VEVENT
BEGIN:VEVENT
DTSTAMP:20260424T115756
DTSTART;TZID=Europe/Berlin:20260528T170000
DTEND;TZID=Europe/Berlin:20260528T183000
UID:ZG44290-20260528T170000@VHSLEVERKUSEN
SUMMARY:Portugiesisch A1.3 (ZG44290) 
LOCATION:Forum - Clubraum B, Am Büchelter Hof 9, 51373 Leverkusen
END:VEVENT
BEGIN:VEVENT
DTSTAMP:20260424T115756
DTSTART;TZID=Europe/Berlin:20260611T170000
DTEND;TZID=Europe/Berlin:20260611T183000
UID:ZG44290-20260611T170000@VHSLEVERKUSEN
SUMMARY:Portugiesisch A1.3 (ZG44290) 
LOCATION:Forum - Clubraum B, Am Büchelter Hof 9, 51373 Leverkusen
END:VEVENT
BEGIN:VEVENT
DTSTAMP:20260424T115756
DTSTART;TZID=Europe/Berlin:20260618T170000
DTEND;TZID=Europe/Berlin:20260618T183000
UID:ZG44290-20260618T170000@VHSLEVERKUSEN
SUMMARY:Portugiesisch A1.3 (ZG44290) 
LOCATION:Forum - Clubraum B, Am Büchelter Hof 9, 51373 Leverkusen
END:VEVENT
BEGIN:VEVENT
DTSTAMP:20260424T115756
DTSTART;TZID=Europe/Berlin:20260625T170000
DTEND;TZID=Europe/Berlin:20260625T183000
UID:ZG44290-20260625T170000@VHSLEVERKUSEN
SUMMARY:Portugiesisch A1.3 (ZG44290) 
LOCATION:Forum - Clubraum B, Am Büchelter Hof 9, 51373 Leverkusen
END:VEVENT
BEGIN:VEVENT
DTSTAMP:20260424T115756
DTSTART;TZID=Europe/Berlin:20260702T170000
DTEND;TZID=Europe/Berlin:20260702T183000
UID:ZG44290-20260702T170000@VHSLEVERKUSEN
SUMMARY:Portugiesisch A1.3 (ZG44290) 
LOCATION:Forum - Clubraum B, Am Büchelter Hof 9, 51373 Leverkusen
END:VEVENT
BEGIN:VEVENT
DTSTAMP:20260424T115756
DTSTART;TZID=Europe/Berlin:20260709T170000
DTEND;TZID=Europe/Berlin:20260709T183000
UID:ZG44290-20260709T170000@VHSLEVERKUSEN
SUMMARY:Portugiesisch A1.3 (ZG44290) 
LOCATION:Forum - Clubraum B, Am Büchelter Hof 9, 51373 Leverkusen
END:VEVENT
END:VCALENDAR