BEGIN:VCALENDAR
VERSION:2.0
PRODID:https://www.kufer.de/kuferweb / DE
METHOD:PUBLISH
CALSCALE:GREGORIAN
X-WR-TIMEZONE:Europe/Berlin
BEGIN:VTIMEZONE
TZID:Europe/Berlin
X-LIC-LOCATION:Europe/Berlin
BEGIN:DAYLIGHT
TZOFFSETFROM:+0100
TZOFFSETTO:+0200
TZNAME:CEST
DTSTART:19700329T020000
RRULE:FREQ=YEARLY;INTERVAL=1;BYDAY=-1SU;BYMONTH=3
END:DAYLIGHT
BEGIN:STANDARD
TZOFFSETFROM:+0200
TZOFFSETTO:+0100
TZNAME:CET
DTSTART:19701025T030000
RRULE:FREQ=YEARLY;INTERVAL=1;BYDAY=-1SU;BYMONTH=10
END:STANDARD
END:VTIMEZONE
BEGIN:VEVENT
DTSTAMP:20260424T131810
DTSTART;TZID=Europe/Berlin:20260515T170000
DTEND;TZID=Europe/Berlin:20260515T193000
UID:ZG44310-20260515T170000@VHSLEVERKUSEN
SUMMARY:Schwedisch A1 für Anfänger*innen (kompakt) (ZG44310) 
LOCATION:Wiesdorf, Musikschule, VHS-Unterrichtsräume, Seminarraum 1, Friedrich-Ebert-Straße 41 a, 51373 Leverkusen
END:VEVENT
BEGIN:VEVENT
DTSTAMP:20260424T131810
DTSTART;TZID=Europe/Berlin:20260516T100000
DTEND;TZID=Europe/Berlin:20260516T154500
UID:ZG44310-20260516T100000@VHSLEVERKUSEN
SUMMARY:Schwedisch A1 für Anfänger*innen (kompakt) (ZG44310) 
LOCATION:Wiesdorf, Musikschule, VHS-Unterrichtsräume, Seminarraum 1, Friedrich-Ebert-Straße 41 a, 51373 Leverkusen
END:VEVENT
BEGIN:VEVENT
DTSTAMP:20260424T131810
DTSTART;TZID=Europe/Berlin:20260522T170000
DTEND;TZID=Europe/Berlin:20260522T193000
UID:ZG44310-20260522T170000@VHSLEVERKUSEN
SUMMARY:Schwedisch A1 für Anfänger*innen (kompakt) (ZG44310) 
LOCATION:Wiesdorf, Musikschule, VHS-Unterrichtsräume, Seminarraum 1, Friedrich-Ebert-Straße 41 a, 51373 Leverkusen
END:VEVENT
BEGIN:VEVENT
DTSTAMP:20260424T131810
DTSTART;TZID=Europe/Berlin:20260523T100000
DTEND;TZID=Europe/Berlin:20260523T154500
UID:ZG44310-20260523T100000@VHSLEVERKUSEN
SUMMARY:Schwedisch A1 für Anfänger*innen (kompakt) (ZG44310) 
LOCATION:Wiesdorf, Musikschule, VHS-Unterrichtsräume, Seminarraum 1, Friedrich-Ebert-Straße 41 a, 51373 Leverkusen
END:VEVENT
END:VCALENDAR