BEGIN:VCALENDAR
VERSION:2.0
PRODID:https://www.kufer.de/kuferweb / DE
METHOD:PUBLISH
CALSCALE:GREGORIAN
X-WR-TIMEZONE:Europe/Berlin
BEGIN:VTIMEZONE
TZID:Europe/Berlin
X-LIC-LOCATION:Europe/Berlin
BEGIN:DAYLIGHT
TZOFFSETFROM:+0100
TZOFFSETTO:+0200
TZNAME:CEST
DTSTART:19700329T020000
RRULE:FREQ=YEARLY;INTERVAL=1;BYDAY=-1SU;BYMONTH=3
END:DAYLIGHT
BEGIN:STANDARD
TZOFFSETFROM:+0200
TZOFFSETTO:+0100
TZNAME:CET
DTSTART:19701025T030000
RRULE:FREQ=YEARLY;INTERVAL=1;BYDAY=-1SU;BYMONTH=10
END:STANDARD
END:VTIMEZONE
BEGIN:VEVENT
DTSTAMP:20260424T131805
DTSTART;TZID=Europe/Berlin:20260615T090000
DTEND;TZID=Europe/Berlin:20260615T124500
UID:ZG50030-20260615T090000@VHSLEVERKUSEN
SUMMARY:Deutsch A2.1 (ZG50030) 
LOCATION:Forum - Raum 203, Am Büchelter Hof 9, 51373 Leverkusen
END:VEVENT
BEGIN:VEVENT
DTSTAMP:20260424T131805
DTSTART;TZID=Europe/Berlin:20260616T090000
DTEND;TZID=Europe/Berlin:20260616T124500
UID:ZG50030-20260616T090000@VHSLEVERKUSEN
DESCRIPTION:Doppelbelegung o.k. - ZG23194 NUR PLATZHALTER von Uta!
SUMMARY:Deutsch A2.1 (ZG50030) 
LOCATION:Forum - Raum 203, Am Büchelter Hof 9, 51373 Leverkusen
END:VEVENT
BEGIN:VEVENT
DTSTAMP:20260424T131805
DTSTART;TZID=Europe/Berlin:20260618T090000
DTEND;TZID=Europe/Berlin:20260618T124500
UID:ZG50030-20260618T090000@VHSLEVERKUSEN
SUMMARY:Deutsch A2.1 (ZG50030) 
LOCATION:Forum - Raum 203, Am Büchelter Hof 9, 51373 Leverkusen
END:VEVENT
BEGIN:VEVENT
DTSTAMP:20260424T131805
DTSTART;TZID=Europe/Berlin:20260619T090000
DTEND;TZID=Europe/Berlin:20260619T124500
UID:ZG50030-20260619T090000@VHSLEVERKUSEN
SUMMARY:Deutsch A2.1 (ZG50030) 
LOCATION:Forum - Raum 203, Am Büchelter Hof 9, 51373 Leverkusen
END:VEVENT
BEGIN:VEVENT
DTSTAMP:20260424T131805
DTSTART;TZID=Europe/Berlin:20260622T090000
DTEND;TZID=Europe/Berlin:20260622T124500
UID:ZG50030-20260622T090000@VHSLEVERKUSEN
SUMMARY:Deutsch A2.1 (ZG50030) 
LOCATION:Forum - Raum 203, Am Büchelter Hof 9, 51373 Leverkusen
END:VEVENT
BEGIN:VEVENT
DTSTAMP:20260424T131805
DTSTART;TZID=Europe/Berlin:20260623T090000
DTEND;TZID=Europe/Berlin:20260623T124500
UID:ZG50030-20260623T090000@VHSLEVERKUSEN
DESCRIPTION:Doppelbelegung o.k. - ZG23194 NUR PLATZHALTER von Uta!
SUMMARY:Deutsch A2.1 (ZG50030) 
LOCATION:Forum - Raum 203, Am Büchelter Hof 9, 51373 Leverkusen
END:VEVENT
BEGIN:VEVENT
DTSTAMP:20260424T131805
DTSTART;TZID=Europe/Berlin:20260625T090000
DTEND;TZID=Europe/Berlin:20260625T124500
UID:ZG50030-20260625T090000@VHSLEVERKUSEN
SUMMARY:Deutsch A2.1 (ZG50030) 
LOCATION:Forum - Raum 203, Am Büchelter Hof 9, 51373 Leverkusen
END:VEVENT
BEGIN:VEVENT
DTSTAMP:20260424T131805
DTSTART;TZID=Europe/Berlin:20260626T090000
DTEND;TZID=Europe/Berlin:20260626T124500
UID:ZG50030-20260626T090000@VHSLEVERKUSEN
SUMMARY:Deutsch A2.1 (ZG50030) 
LOCATION:Forum - Raum 203, Am Büchelter Hof 9, 51373 Leverkusen
END:VEVENT
BEGIN:VEVENT
DTSTAMP:20260424T131805
DTSTART;TZID=Europe/Berlin:20260629T090000
DTEND;TZID=Europe/Berlin:20260629T124500
UID:ZG50030-20260629T090000@VHSLEVERKUSEN
SUMMARY:Deutsch A2.1 (ZG50030) 
LOCATION:Forum - Raum 203, Am Büchelter Hof 9, 51373 Leverkusen
END:VEVENT
BEGIN:VEVENT
DTSTAMP:20260424T131805
DTSTART;TZID=Europe/Berlin:20260630T090000
DTEND;TZID=Europe/Berlin:20260630T124500
UID:ZG50030-20260630T090000@VHSLEVERKUSEN
DESCRIPTION:Doppelbelegung o.k. - ZG23194 NUR PLATZHALTER von Uta!
SUMMARY:Deutsch A2.1 (ZG50030) 
LOCATION:Forum - Raum 203, Am Büchelter Hof 9, 51373 Leverkusen
END:VEVENT
BEGIN:VEVENT
DTSTAMP:20260424T131805
DTSTART;TZID=Europe/Berlin:20260702T090000
DTEND;TZID=Europe/Berlin:20260702T124500
UID:ZG50030-20260702T090000@VHSLEVERKUSEN
SUMMARY:Deutsch A2.1 (ZG50030) 
LOCATION:Forum - Raum 203, Am Büchelter Hof 9, 51373 Leverkusen
END:VEVENT
BEGIN:VEVENT
DTSTAMP:20260424T131805
DTSTART;TZID=Europe/Berlin:20260703T090000
DTEND;TZID=Europe/Berlin:20260703T124500
UID:ZG50030-20260703T090000@VHSLEVERKUSEN
SUMMARY:Deutsch A2.1 (ZG50030) 
LOCATION:Forum - Raum 203, Am Büchelter Hof 9, 51373 Leverkusen
END:VEVENT
BEGIN:VEVENT
DTSTAMP:20260424T131805
DTSTART;TZID=Europe/Berlin:20260706T090000
DTEND;TZID=Europe/Berlin:20260706T124500
UID:ZG50030-20260706T090000@VHSLEVERKUSEN
SUMMARY:Deutsch A2.1 (ZG50030) 
LOCATION:Forum - Raum 203, Am Büchelter Hof 9, 51373 Leverkusen
END:VEVENT
BEGIN:VEVENT
DTSTAMP:20260424T131805
DTSTART;TZID=Europe/Berlin:20260707T090000
DTEND;TZID=Europe/Berlin:20260707T124500
UID:ZG50030-20260707T090000@VHSLEVERKUSEN
DESCRIPTION:Doppelbelegung o.k. - ZG23194 NUR PLATZHALTER von Uta!
SUMMARY:Deutsch A2.1 (ZG50030) 
LOCATION:Forum - Raum 203, Am Büchelter Hof 9, 51373 Leverkusen
END:VEVENT
BEGIN:VEVENT
DTSTAMP:20260424T131805
DTSTART;TZID=Europe/Berlin:20260709T090000
DTEND;TZID=Europe/Berlin:20260709T124500
UID:ZG50030-20260709T090000@VHSLEVERKUSEN
SUMMARY:Deutsch A2.1 (ZG50030) 
LOCATION:Forum - Raum 203, Am Büchelter Hof 9, 51373 Leverkusen
END:VEVENT
BEGIN:VEVENT
DTSTAMP:20260424T131805
DTSTART;TZID=Europe/Berlin:20260710T090000
DTEND;TZID=Europe/Berlin:20260710T124500
UID:ZG50030-20260710T090000@VHSLEVERKUSEN
SUMMARY:Deutsch A2.1 (ZG50030) 
LOCATION:Forum - Raum 203, Am Büchelter Hof 9, 51373 Leverkusen
END:VEVENT
BEGIN:VEVENT
DTSTAMP:20260424T131805
DTSTART;TZID=Europe/Berlin:20260713T090000
DTEND;TZID=Europe/Berlin:20260713T124500
UID:ZG50030-20260713T090000@VHSLEVERKUSEN
SUMMARY:Deutsch A2.1 (ZG50030) 
LOCATION:Forum - Raum 203, Am Büchelter Hof 9, 51373 Leverkusen
END:VEVENT
BEGIN:VEVENT
DTSTAMP:20260424T131805
DTSTART;TZID=Europe/Berlin:20260714T090000
DTEND;TZID=Europe/Berlin:20260714T124500
UID:ZG50030-20260714T090000@VHSLEVERKUSEN
DESCRIPTION:Doppelbelegung o.k. - ZG23194 NUR PLATZHALTER von Uta!
SUMMARY:Deutsch A2.1 (ZG50030) 
LOCATION:Forum - Raum 203, Am Büchelter Hof 9, 51373 Leverkusen
END:VEVENT
END:VCALENDAR