BEGIN:VCALENDAR
VERSION:2.0
PRODID:https://www.kufer.de/kuferweb / DE
METHOD:PUBLISH
CALSCALE:GREGORIAN
X-WR-TIMEZONE:Europe/Berlin
BEGIN:VTIMEZONE
TZID:Europe/Berlin
X-LIC-LOCATION:Europe/Berlin
BEGIN:DAYLIGHT
TZOFFSETFROM:+0100
TZOFFSETTO:+0200
TZNAME:CEST
DTSTART:19700329T020000
RRULE:FREQ=YEARLY;INTERVAL=1;BYDAY=-1SU;BYMONTH=3
END:DAYLIGHT
BEGIN:STANDARD
TZOFFSETFROM:+0200
TZOFFSETTO:+0100
TZNAME:CET
DTSTART:19701025T030000
RRULE:FREQ=YEARLY;INTERVAL=1;BYDAY=-1SU;BYMONTH=10
END:STANDARD
END:VTIMEZONE
BEGIN:VEVENT
DTSTAMP:20260424T133812
DTSTART;TZID=Europe/Berlin:20260427T090000
DTEND;TZID=Europe/Berlin:20260427T124500
UID:ZG50050-20260427T090000@VHSLEVERKUSEN
SUMMARY:Deutsch B1.1 (ZG50050) 
LOCATION:Forum - Raum 202, Am Büchelter Hof 9, 51373 Leverkusen
END:VEVENT
BEGIN:VEVENT
DTSTAMP:20260424T133812
DTSTART;TZID=Europe/Berlin:20260428T090000
DTEND;TZID=Europe/Berlin:20260428T124500
UID:ZG50050-20260428T090000@VHSLEVERKUSEN
SUMMARY:Deutsch B1.1 (ZG50050) 
LOCATION:Forum - Raum 202, Am Büchelter Hof 9, 51373 Leverkusen
END:VEVENT
BEGIN:VEVENT
DTSTAMP:20260424T133812
DTSTART;TZID=Europe/Berlin:20260507T090000
DTEND;TZID=Europe/Berlin:20260507T124500
UID:ZG50050-20260507T090000@VHSLEVERKUSEN
SUMMARY:Deutsch B1.1 (ZG50050) 
LOCATION:Forum - Raum 202, Am Büchelter Hof 9, 51373 Leverkusen
END:VEVENT
BEGIN:VEVENT
DTSTAMP:20260424T133812
DTSTART;TZID=Europe/Berlin:20260508T090000
DTEND;TZID=Europe/Berlin:20260508T124500
UID:ZG50050-20260508T090000@VHSLEVERKUSEN
SUMMARY:Deutsch B1.1 (ZG50050) 
LOCATION:Forum - Raum 202, Am Büchelter Hof 9, 51373 Leverkusen
END:VEVENT
BEGIN:VEVENT
DTSTAMP:20260424T133812
DTSTART;TZID=Europe/Berlin:20260511T090000
DTEND;TZID=Europe/Berlin:20260511T124500
UID:ZG50050-20260511T090000@VHSLEVERKUSEN
SUMMARY:Deutsch B1.1 (ZG50050) 
LOCATION:Forum - Raum 202, Am Büchelter Hof 9, 51373 Leverkusen
END:VEVENT
BEGIN:VEVENT
DTSTAMP:20260424T133812
DTSTART;TZID=Europe/Berlin:20260512T090000
DTEND;TZID=Europe/Berlin:20260512T124500
UID:ZG50050-20260512T090000@VHSLEVERKUSEN
SUMMARY:Deutsch B1.1 (ZG50050) 
LOCATION:Forum - Raum 202, Am Büchelter Hof 9, 51373 Leverkusen
END:VEVENT
BEGIN:VEVENT
DTSTAMP:20260424T133812
DTSTART;TZID=Europe/Berlin:20260518T090000
DTEND;TZID=Europe/Berlin:20260518T124500
UID:ZG50050-20260518T090000@VHSLEVERKUSEN
SUMMARY:Deutsch B1.1 (ZG50050) 
LOCATION:Forum - Raum 202, Am Büchelter Hof 9, 51373 Leverkusen
END:VEVENT
BEGIN:VEVENT
DTSTAMP:20260424T133812
DTSTART;TZID=Europe/Berlin:20260519T090000
DTEND;TZID=Europe/Berlin:20260519T124500
UID:ZG50050-20260519T090000@VHSLEVERKUSEN
SUMMARY:Deutsch B1.1 (ZG50050) 
LOCATION:Forum - Raum 202, Am Büchelter Hof 9, 51373 Leverkusen
END:VEVENT
BEGIN:VEVENT
DTSTAMP:20260424T133812
DTSTART;TZID=Europe/Berlin:20260521T090000
DTEND;TZID=Europe/Berlin:20260521T124500
UID:ZG50050-20260521T090000@VHSLEVERKUSEN
SUMMARY:Deutsch B1.1 (ZG50050) 
LOCATION:Forum - Raum 202, Am Büchelter Hof 9, 51373 Leverkusen
END:VEVENT
BEGIN:VEVENT
DTSTAMP:20260424T133812
DTSTART;TZID=Europe/Berlin:20260522T090000
DTEND;TZID=Europe/Berlin:20260522T124500
UID:ZG50050-20260522T090000@VHSLEVERKUSEN
SUMMARY:Deutsch B1.1 (ZG50050) 
LOCATION:Forum - Raum 202, Am Büchelter Hof 9, 51373 Leverkusen
END:VEVENT
BEGIN:VEVENT
DTSTAMP:20260424T133812
DTSTART;TZID=Europe/Berlin:20260528T090000
DTEND;TZID=Europe/Berlin:20260528T124500
UID:ZG50050-20260528T090000@VHSLEVERKUSEN
SUMMARY:Deutsch B1.1 (ZG50050) 
LOCATION:Forum - Raum 202, Am Büchelter Hof 9, 51373 Leverkusen
END:VEVENT
BEGIN:VEVENT
DTSTAMP:20260424T133812
DTSTART;TZID=Europe/Berlin:20260529T090000
DTEND;TZID=Europe/Berlin:20260529T124500
UID:ZG50050-20260529T090000@VHSLEVERKUSEN
SUMMARY:Deutsch B1.1 (ZG50050) 
LOCATION:Forum - Raum 202, Am Büchelter Hof 9, 51373 Leverkusen
END:VEVENT
BEGIN:VEVENT
DTSTAMP:20260424T133812
DTSTART;TZID=Europe/Berlin:20260601T090000
DTEND;TZID=Europe/Berlin:20260601T124500
UID:ZG50050-20260601T090000@VHSLEVERKUSEN
SUMMARY:Deutsch B1.1 (ZG50050) 
LOCATION:Forum - Raum 202, Am Büchelter Hof 9, 51373 Leverkusen
END:VEVENT
BEGIN:VEVENT
DTSTAMP:20260424T133812
DTSTART;TZID=Europe/Berlin:20260602T090000
DTEND;TZID=Europe/Berlin:20260602T124500
UID:ZG50050-20260602T090000@VHSLEVERKUSEN
SUMMARY:Deutsch B1.1 (ZG50050) 
LOCATION:Forum - Raum 202, Am Büchelter Hof 9, 51373 Leverkusen
END:VEVENT
BEGIN:VEVENT
DTSTAMP:20260424T133812
DTSTART;TZID=Europe/Berlin:20260608T090000
DTEND;TZID=Europe/Berlin:20260608T124500
UID:ZG50050-20260608T090000@VHSLEVERKUSEN
SUMMARY:Deutsch B1.1 (ZG50050) 
LOCATION:Forum - Raum 202, Am Büchelter Hof 9, 51373 Leverkusen
END:VEVENT
BEGIN:VEVENT
DTSTAMP:20260424T133812
DTSTART;TZID=Europe/Berlin:20260609T090000
DTEND;TZID=Europe/Berlin:20260609T124500
UID:ZG50050-20260609T090000@VHSLEVERKUSEN
DESCRIPTION:Ersatz für 30.04.2026
SUMMARY:Deutsch B1.1 (ZG50050) 
LOCATION:Forum - Raum 202, Am Büchelter Hof 9, 51373 Leverkusen
END:VEVENT
BEGIN:VEVENT
DTSTAMP:20260424T133812
DTSTART;TZID=Europe/Berlin:20260611T090000
DTEND;TZID=Europe/Berlin:20260611T124500
UID:ZG50050-20260611T090000@VHSLEVERKUSEN
DESCRIPTION:Ersatz für 04.05.2026
SUMMARY:Deutsch B1.1 (ZG50050) 
LOCATION:Forum - Raum 202, Am Büchelter Hof 9, 51373 Leverkusen
END:VEVENT
BEGIN:VEVENT
DTSTAMP:20260424T133812
DTSTART;TZID=Europe/Berlin:20260612T090000
DTEND;TZID=Europe/Berlin:20260612T124500
UID:ZG50050-20260612T090000@VHSLEVERKUSEN
DESCRIPTION:Ersatz für 06.05.2026
SUMMARY:Deutsch B1.1 (ZG50050) 
LOCATION:Forum - Raum 202, Am Büchelter Hof 9, 51373 Leverkusen
END:VEVENT
END:VCALENDAR