BEGIN:VCALENDAR
VERSION:2.0
PRODID:https://www.kufer.de/kuferweb / DE
METHOD:PUBLISH
CALSCALE:GREGORIAN
X-WR-TIMEZONE:Europe/Berlin
BEGIN:VTIMEZONE
TZID:Europe/Berlin
X-LIC-LOCATION:Europe/Berlin
BEGIN:DAYLIGHT
TZOFFSETFROM:+0100
TZOFFSETTO:+0200
TZNAME:CEST
DTSTART:19700329T020000
RRULE:FREQ=YEARLY;INTERVAL=1;BYDAY=-1SU;BYMONTH=3
END:DAYLIGHT
BEGIN:STANDARD
TZOFFSETFROM:+0200
TZOFFSETTO:+0100
TZNAME:CET
DTSTART:19701025T030000
RRULE:FREQ=YEARLY;INTERVAL=1;BYDAY=-1SU;BYMONTH=10
END:STANDARD
END:VTIMEZONE
BEGIN:VEVENT
DTSTAMP:20260424T115756
DTSTART;TZID=Europe/Berlin:20260428T090000
DTEND;TZID=Europe/Berlin:20260428T124500
UID:ZG50080-20260428T090000@VHSLEVERKUSEN
SUMMARY:Deutsch B2.2 (ZG50080) 
LOCATION:Forum - Raum 212, Am Büchelter Hof 9, 51373 Leverkusen
END:VEVENT
BEGIN:VEVENT
DTSTAMP:20260424T115756
DTSTART;TZID=Europe/Berlin:20260429T090000
DTEND;TZID=Europe/Berlin:20260429T124500
UID:ZG50080-20260429T090000@VHSLEVERKUSEN
SUMMARY:Deutsch B2.2 (ZG50080) 
LOCATION:Forum - Raum 212, Am Büchelter Hof 9, 51373 Leverkusen
END:VEVENT
BEGIN:VEVENT
DTSTAMP:20260424T115756
DTSTART;TZID=Europe/Berlin:20260430T090000
DTEND;TZID=Europe/Berlin:20260430T124500
UID:ZG50080-20260430T090000@VHSLEVERKUSEN
SUMMARY:Deutsch B2.2 (ZG50080) 
LOCATION:Forum - Raum 212, Am Büchelter Hof 9, 51373 Leverkusen
END:VEVENT
BEGIN:VEVENT
DTSTAMP:20260424T115756
DTSTART;TZID=Europe/Berlin:20260504T090000
DTEND;TZID=Europe/Berlin:20260504T124500
UID:ZG50080-20260504T090000@VHSLEVERKUSEN
SUMMARY:Deutsch B2.2 (ZG50080) 
LOCATION:Forum - Raum 212, Am Büchelter Hof 9, 51373 Leverkusen
END:VEVENT
BEGIN:VEVENT
DTSTAMP:20260424T115756
DTSTART;TZID=Europe/Berlin:20260505T090000
DTEND;TZID=Europe/Berlin:20260505T124500
UID:ZG50080-20260505T090000@VHSLEVERKUSEN
SUMMARY:Deutsch B2.2 (ZG50080) 
LOCATION:Forum - Raum 212, Am Büchelter Hof 9, 51373 Leverkusen
END:VEVENT
BEGIN:VEVENT
DTSTAMP:20260424T115756
DTSTART;TZID=Europe/Berlin:20260506T090000
DTEND;TZID=Europe/Berlin:20260506T124500
UID:ZG50080-20260506T090000@VHSLEVERKUSEN
SUMMARY:Deutsch B2.2 (ZG50080) 
LOCATION:Forum - Raum 212, Am Büchelter Hof 9, 51373 Leverkusen
END:VEVENT
BEGIN:VEVENT
DTSTAMP:20260424T115756
DTSTART;TZID=Europe/Berlin:20260507T090000
DTEND;TZID=Europe/Berlin:20260507T124500
UID:ZG50080-20260507T090000@VHSLEVERKUSEN
SUMMARY:Deutsch B2.2 (ZG50080) 
LOCATION:Forum - Raum 212, Am Büchelter Hof 9, 51373 Leverkusen
END:VEVENT
BEGIN:VEVENT
DTSTAMP:20260424T115756
DTSTART;TZID=Europe/Berlin:20260511T090000
DTEND;TZID=Europe/Berlin:20260511T124500
UID:ZG50080-20260511T090000@VHSLEVERKUSEN
SUMMARY:Deutsch B2.2 (ZG50080) 
LOCATION:Forum - Raum 212, Am Büchelter Hof 9, 51373 Leverkusen
END:VEVENT
BEGIN:VEVENT
DTSTAMP:20260424T115756
DTSTART;TZID=Europe/Berlin:20260512T090000
DTEND;TZID=Europe/Berlin:20260512T124500
UID:ZG50080-20260512T090000@VHSLEVERKUSEN
SUMMARY:Deutsch B2.2 (ZG50080) 
LOCATION:Forum - Raum 212, Am Büchelter Hof 9, 51373 Leverkusen
END:VEVENT
BEGIN:VEVENT
DTSTAMP:20260424T115756
DTSTART;TZID=Europe/Berlin:20260513T090000
DTEND;TZID=Europe/Berlin:20260513T124500
UID:ZG50080-20260513T090000@VHSLEVERKUSEN
SUMMARY:Deutsch B2.2 (ZG50080) 
LOCATION:Forum - Raum 212, Am Büchelter Hof 9, 51373 Leverkusen
END:VEVENT
BEGIN:VEVENT
DTSTAMP:20260424T115756
DTSTART;TZID=Europe/Berlin:20260518T090000
DTEND;TZID=Europe/Berlin:20260518T124500
UID:ZG50080-20260518T090000@VHSLEVERKUSEN
SUMMARY:Deutsch B2.2 (ZG50080) 
LOCATION:Forum - Raum 212, Am Büchelter Hof 9, 51373 Leverkusen
END:VEVENT
BEGIN:VEVENT
DTSTAMP:20260424T115756
DTSTART;TZID=Europe/Berlin:20260519T090000
DTEND;TZID=Europe/Berlin:20260519T124500
UID:ZG50080-20260519T090000@VHSLEVERKUSEN
SUMMARY:Deutsch B2.2 (ZG50080) 
LOCATION:Forum - Raum 212, Am Büchelter Hof 9, 51373 Leverkusen
END:VEVENT
BEGIN:VEVENT
DTSTAMP:20260424T115756
DTSTART;TZID=Europe/Berlin:20260520T090000
DTEND;TZID=Europe/Berlin:20260520T124500
UID:ZG50080-20260520T090000@VHSLEVERKUSEN
SUMMARY:Deutsch B2.2 (ZG50080) 
LOCATION:Forum - Raum 212, Am Büchelter Hof 9, 51373 Leverkusen
END:VEVENT
BEGIN:VEVENT
DTSTAMP:20260424T115756
DTSTART;TZID=Europe/Berlin:20260521T090000
DTEND;TZID=Europe/Berlin:20260521T124500
UID:ZG50080-20260521T090000@VHSLEVERKUSEN
SUMMARY:Deutsch B2.2 (ZG50080) 
LOCATION:Forum - Raum 212, Am Büchelter Hof 9, 51373 Leverkusen
END:VEVENT
BEGIN:VEVENT
DTSTAMP:20260424T115756
DTSTART;TZID=Europe/Berlin:20260527T090000
DTEND;TZID=Europe/Berlin:20260527T124500
UID:ZG50080-20260527T090000@VHSLEVERKUSEN
SUMMARY:Deutsch B2.2 (ZG50080) 
LOCATION:Forum - Raum 212, Am Büchelter Hof 9, 51373 Leverkusen
END:VEVENT
BEGIN:VEVENT
DTSTAMP:20260424T115756
DTSTART;TZID=Europe/Berlin:20260528T090000
DTEND;TZID=Europe/Berlin:20260528T124500
UID:ZG50080-20260528T090000@VHSLEVERKUSEN
SUMMARY:Deutsch B2.2 (ZG50080) 
LOCATION:Forum - Raum 212, Am Büchelter Hof 9, 51373 Leverkusen
END:VEVENT
BEGIN:VEVENT
DTSTAMP:20260424T115756
DTSTART;TZID=Europe/Berlin:20260601T090000
DTEND;TZID=Europe/Berlin:20260601T124500
UID:ZG50080-20260601T090000@VHSLEVERKUSEN
SUMMARY:Deutsch B2.2 (ZG50080) 
LOCATION:Forum - Raum 212, Am Büchelter Hof 9, 51373 Leverkusen
END:VEVENT
BEGIN:VEVENT
DTSTAMP:20260424T115756
DTSTART;TZID=Europe/Berlin:20260602T090000
DTEND;TZID=Europe/Berlin:20260602T124500
UID:ZG50080-20260602T090000@VHSLEVERKUSEN
SUMMARY:Deutsch B2.2 (ZG50080) 
LOCATION:Forum - Raum 212, Am Büchelter Hof 9, 51373 Leverkusen
END:VEVENT
END:VCALENDAR