BEGIN:VCALENDAR
VERSION:2.0
PRODID:https://www.kufer.de/kuferweb / DE
METHOD:PUBLISH
CALSCALE:GREGORIAN
X-WR-TIMEZONE:Europe/Berlin
BEGIN:VTIMEZONE
TZID:Europe/Berlin
X-LIC-LOCATION:Europe/Berlin
BEGIN:DAYLIGHT
TZOFFSETFROM:+0100
TZOFFSETTO:+0200
TZNAME:CEST
DTSTART:19700329T020000
RRULE:FREQ=YEARLY;INTERVAL=1;BYDAY=-1SU;BYMONTH=3
END:DAYLIGHT
BEGIN:STANDARD
TZOFFSETFROM:+0200
TZOFFSETTO:+0100
TZNAME:CET
DTSTART:19701025T030000
RRULE:FREQ=YEARLY;INTERVAL=1;BYDAY=-1SU;BYMONTH=10
END:STANDARD
END:VTIMEZONE
BEGIN:VEVENT
DTSTAMP:20260424T131847
DTSTART;TZID=Europe/Berlin:20260316T180000
DTEND;TZID=Europe/Berlin:20260316T201500
UID:ZG50180-20260316T180000@VHSLEVERKUSEN
SUMMARY:Deutsch C1+ (ZG50180) 
LOCATION:Wiesdorf, Musikschule, VHS-Unterrichtsräume, Seminarraum 2, Friedrich-Ebert-Straße 41 a, 51373 Leverkusen
END:VEVENT
BEGIN:VEVENT
DTSTAMP:20260424T131847
DTSTART;TZID=Europe/Berlin:20260318T180000
DTEND;TZID=Europe/Berlin:20260318T201500
UID:ZG50180-20260318T180000@VHSLEVERKUSEN
SUMMARY:Deutsch C1+ (ZG50180) 
LOCATION:Wiesdorf, Musikschule, VHS-Unterrichtsräume, Seminarraum 2, Friedrich-Ebert-Straße 41 a, 51373 Leverkusen
END:VEVENT
BEGIN:VEVENT
DTSTAMP:20260424T131847
DTSTART;TZID=Europe/Berlin:20260323T180000
DTEND;TZID=Europe/Berlin:20260323T201500
UID:ZG50180-20260323T180000@VHSLEVERKUSEN
SUMMARY:Deutsch C1+ (ZG50180) 
LOCATION:Wiesdorf, Musikschule, VHS-Unterrichtsräume, Seminarraum 2, Friedrich-Ebert-Straße 41 a, 51373 Leverkusen
END:VEVENT
BEGIN:VEVENT
DTSTAMP:20260424T131847
DTSTART;TZID=Europe/Berlin:20260325T180000
DTEND;TZID=Europe/Berlin:20260325T201500
UID:ZG50180-20260325T180000@VHSLEVERKUSEN
SUMMARY:Deutsch C1+ (ZG50180) 
LOCATION:Wiesdorf, Musikschule, VHS-Unterrichtsräume, Seminarraum 2, Friedrich-Ebert-Straße 41 a, 51373 Leverkusen
END:VEVENT
BEGIN:VEVENT
DTSTAMP:20260424T131847
DTSTART;TZID=Europe/Berlin:20260413T180000
DTEND;TZID=Europe/Berlin:20260413T201500
UID:ZG50180-20260413T180000@VHSLEVERKUSEN
SUMMARY:Deutsch C1+ (ZG50180) 
LOCATION:Wiesdorf, Musikschule, VHS-Unterrichtsräume, Seminarraum 2, Friedrich-Ebert-Straße 41 a, 51373 Leverkusen
END:VEVENT
BEGIN:VEVENT
DTSTAMP:20260424T131847
DTSTART;TZID=Europe/Berlin:20260415T180000
DTEND;TZID=Europe/Berlin:20260415T201500
UID:ZG50180-20260415T180000@VHSLEVERKUSEN
SUMMARY:Deutsch C1+ (ZG50180) 
LOCATION:Wiesdorf, Musikschule, VHS-Unterrichtsräume, Seminarraum 2, Friedrich-Ebert-Straße 41 a, 51373 Leverkusen
END:VEVENT
BEGIN:VEVENT
DTSTAMP:20260424T131847
DTSTART;TZID=Europe/Berlin:20260427T180000
DTEND;TZID=Europe/Berlin:20260427T201500
UID:ZG50180-20260427T180000@VHSLEVERKUSEN
SUMMARY:Deutsch C1+ (ZG50180) 
LOCATION:Wiesdorf, Musikschule, VHS-Unterrichtsräume, Seminarraum 2, Friedrich-Ebert-Straße 41 a, 51373 Leverkusen
END:VEVENT
BEGIN:VEVENT
DTSTAMP:20260424T131847
DTSTART;TZID=Europe/Berlin:20260429T180000
DTEND;TZID=Europe/Berlin:20260429T201500
UID:ZG50180-20260429T180000@VHSLEVERKUSEN
SUMMARY:Deutsch C1+ (ZG50180) 
LOCATION:Wiesdorf, Musikschule, VHS-Unterrichtsräume, Seminarraum 2, Friedrich-Ebert-Straße 41 a, 51373 Leverkusen
END:VEVENT
BEGIN:VEVENT
DTSTAMP:20260424T131847
DTSTART;TZID=Europe/Berlin:20260504T180000
DTEND;TZID=Europe/Berlin:20260504T201500
UID:ZG50180-20260504T180000@VHSLEVERKUSEN
SUMMARY:Deutsch C1+ (ZG50180) 
LOCATION:Wiesdorf, Musikschule, VHS-Unterrichtsräume, Seminarraum 2, Friedrich-Ebert-Straße 41 a, 51373 Leverkusen
END:VEVENT
BEGIN:VEVENT
DTSTAMP:20260424T131847
DTSTART;TZID=Europe/Berlin:20260506T180000
DTEND;TZID=Europe/Berlin:20260506T201500
UID:ZG50180-20260506T180000@VHSLEVERKUSEN
SUMMARY:Deutsch C1+ (ZG50180) 
LOCATION:Wiesdorf, Musikschule, VHS-Unterrichtsräume, Seminarraum 2, Friedrich-Ebert-Straße 41 a, 51373 Leverkusen
END:VEVENT
BEGIN:VEVENT
DTSTAMP:20260424T131847
DTSTART;TZID=Europe/Berlin:20260511T180000
DTEND;TZID=Europe/Berlin:20260511T201500
UID:ZG50180-20260511T180000@VHSLEVERKUSEN
SUMMARY:Deutsch C1+ (ZG50180) 
LOCATION:Wiesdorf, Musikschule, VHS-Unterrichtsräume, Seminarraum 2, Friedrich-Ebert-Straße 41 a, 51373 Leverkusen
END:VEVENT
BEGIN:VEVENT
DTSTAMP:20260424T131847
DTSTART;TZID=Europe/Berlin:20260513T180000
DTEND;TZID=Europe/Berlin:20260513T201500
UID:ZG50180-20260513T180000@VHSLEVERKUSEN
SUMMARY:Deutsch C1+ (ZG50180) 
LOCATION:Wiesdorf, Musikschule, VHS-Unterrichtsräume, Seminarraum 2, Friedrich-Ebert-Straße 41 a, 51373 Leverkusen
END:VEVENT
BEGIN:VEVENT
DTSTAMP:20260424T131847
DTSTART;TZID=Europe/Berlin:20260518T180000
DTEND;TZID=Europe/Berlin:20260518T201500
UID:ZG50180-20260518T180000@VHSLEVERKUSEN
SUMMARY:Deutsch C1+ (ZG50180) 
LOCATION:Wiesdorf, Musikschule, VHS-Unterrichtsräume, Seminarraum 2, Friedrich-Ebert-Straße 41 a, 51373 Leverkusen
END:VEVENT
BEGIN:VEVENT
DTSTAMP:20260424T131847
DTSTART;TZID=Europe/Berlin:20260520T180000
DTEND;TZID=Europe/Berlin:20260520T201500
UID:ZG50180-20260520T180000@VHSLEVERKUSEN
SUMMARY:Deutsch C1+ (ZG50180) 
LOCATION:Wiesdorf, Musikschule, VHS-Unterrichtsräume, Seminarraum 2, Friedrich-Ebert-Straße 41 a, 51373 Leverkusen
END:VEVENT
BEGIN:VEVENT
DTSTAMP:20260424T131847
DTSTART;TZID=Europe/Berlin:20260527T180000
DTEND;TZID=Europe/Berlin:20260527T201500
UID:ZG50180-20260527T180000@VHSLEVERKUSEN
SUMMARY:Deutsch C1+ (ZG50180) 
LOCATION:Wiesdorf, Musikschule, VHS-Unterrichtsräume, Seminarraum 2, Friedrich-Ebert-Straße 41 a, 51373 Leverkusen
END:VEVENT
BEGIN:VEVENT
DTSTAMP:20260424T131847
DTSTART;TZID=Europe/Berlin:20260601T180000
DTEND;TZID=Europe/Berlin:20260601T201500
UID:ZG50180-20260601T180000@VHSLEVERKUSEN
SUMMARY:Deutsch C1+ (ZG50180) 
LOCATION:Wiesdorf, Musikschule, VHS-Unterrichtsräume, Seminarraum 2, Friedrich-Ebert-Straße 41 a, 51373 Leverkusen
END:VEVENT
BEGIN:VEVENT
DTSTAMP:20260424T131847
DTSTART;TZID=Europe/Berlin:20260603T180000
DTEND;TZID=Europe/Berlin:20260603T201500
UID:ZG50180-20260603T180000@VHSLEVERKUSEN
SUMMARY:Deutsch C1+ (ZG50180) 
LOCATION:Wiesdorf, Musikschule, VHS-Unterrichtsräume, Seminarraum 2, Friedrich-Ebert-Straße 41 a, 51373 Leverkusen
END:VEVENT
BEGIN:VEVENT
DTSTAMP:20260424T131847
DTSTART;TZID=Europe/Berlin:20260608T180000
DTEND;TZID=Europe/Berlin:20260608T201500
UID:ZG50180-20260608T180000@VHSLEVERKUSEN
SUMMARY:Deutsch C1+ (ZG50180) 
LOCATION:Wiesdorf, Musikschule, VHS-Unterrichtsräume, Seminarraum 2, Friedrich-Ebert-Straße 41 a, 51373 Leverkusen
END:VEVENT
BEGIN:VEVENT
DTSTAMP:20260424T131847
DTSTART;TZID=Europe/Berlin:20260610T180000
DTEND;TZID=Europe/Berlin:20260610T201500
UID:ZG50180-20260610T180000@VHSLEVERKUSEN
SUMMARY:Deutsch C1+ (ZG50180) 
LOCATION:Wiesdorf, Musikschule, VHS-Unterrichtsräume, Seminarraum 2, Friedrich-Ebert-Straße 41 a, 51373 Leverkusen
END:VEVENT
BEGIN:VEVENT
DTSTAMP:20260424T131847
DTSTART;TZID=Europe/Berlin:20260615T180000
DTEND;TZID=Europe/Berlin:20260615T201500
UID:ZG50180-20260615T180000@VHSLEVERKUSEN
SUMMARY:Deutsch C1+ (ZG50180) 
LOCATION:Wiesdorf, Musikschule, VHS-Unterrichtsräume, Seminarraum 2, Friedrich-Ebert-Straße 41 a, 51373 Leverkusen
END:VEVENT
BEGIN:VEVENT
DTSTAMP:20260424T131847
DTSTART;TZID=Europe/Berlin:20260617T180000
DTEND;TZID=Europe/Berlin:20260617T201500
UID:ZG50180-20260617T180000@VHSLEVERKUSEN
SUMMARY:Deutsch C1+ (ZG50180) 
LOCATION:Wiesdorf, Musikschule, VHS-Unterrichtsräume, Seminarraum 2, Friedrich-Ebert-Straße 41 a, 51373 Leverkusen
END:VEVENT
BEGIN:VEVENT
DTSTAMP:20260424T131847
DTSTART;TZID=Europe/Berlin:20260622T180000
DTEND;TZID=Europe/Berlin:20260622T201500
UID:ZG50180-20260622T180000@VHSLEVERKUSEN
SUMMARY:Deutsch C1+ (ZG50180) 
LOCATION:Wiesdorf, Musikschule, VHS-Unterrichtsräume, Seminarraum 2, Friedrich-Ebert-Straße 41 a, 51373 Leverkusen
END:VEVENT
BEGIN:VEVENT
DTSTAMP:20260424T131847
DTSTART;TZID=Europe/Berlin:20260624T180000
DTEND;TZID=Europe/Berlin:20260624T201500
UID:ZG50180-20260624T180000@VHSLEVERKUSEN
SUMMARY:Deutsch C1+ (ZG50180) 
LOCATION:Wiesdorf, Musikschule, VHS-Unterrichtsräume, Seminarraum 2, Friedrich-Ebert-Straße 41 a, 51373 Leverkusen
END:VEVENT
BEGIN:VEVENT
DTSTAMP:20260424T131847
DTSTART;TZID=Europe/Berlin:20260629T180000
DTEND;TZID=Europe/Berlin:20260629T201500
UID:ZG50180-20260629T180000@VHSLEVERKUSEN
SUMMARY:Deutsch C1+ (ZG50180) 
LOCATION:Wiesdorf, Musikschule, VHS-Unterrichtsräume, Seminarraum 2, Friedrich-Ebert-Straße 41 a, 51373 Leverkusen
END:VEVENT
BEGIN:VEVENT
DTSTAMP:20260424T131847
DTSTART;TZID=Europe/Berlin:20260701T180000
DTEND;TZID=Europe/Berlin:20260701T201500
UID:ZG50180-20260701T180000@VHSLEVERKUSEN
SUMMARY:Deutsch C1+ (ZG50180) 
LOCATION:Wiesdorf, Musikschule, VHS-Unterrichtsräume, Seminarraum 2, Friedrich-Ebert-Straße 41 a, 51373 Leverkusen
END:VEVENT
BEGIN:VEVENT
DTSTAMP:20260424T131847
DTSTART;TZID=Europe/Berlin:20260706T180000
DTEND;TZID=Europe/Berlin:20260706T201500
UID:ZG50180-20260706T180000@VHSLEVERKUSEN
SUMMARY:Deutsch C1+ (ZG50180) 
LOCATION:Wiesdorf, Musikschule, VHS-Unterrichtsräume, Seminarraum 2, Friedrich-Ebert-Straße 41 a, 51373 Leverkusen
END:VEVENT
BEGIN:VEVENT
DTSTAMP:20260424T131847
DTSTART;TZID=Europe/Berlin:20260708T180000
DTEND;TZID=Europe/Berlin:20260708T201500
UID:ZG50180-20260708T180000@VHSLEVERKUSEN
SUMMARY:Deutsch C1+ (ZG50180) 
LOCATION:Wiesdorf, Musikschule, VHS-Unterrichtsräume, Seminarraum 2, Friedrich-Ebert-Straße 41 a, 51373 Leverkusen
END:VEVENT
BEGIN:VEVENT
DTSTAMP:20260424T131847
DTSTART;TZID=Europe/Berlin:20260713T180000
DTEND;TZID=Europe/Berlin:20260713T201500
UID:ZG50180-20260713T180000@VHSLEVERKUSEN
SUMMARY:Deutsch C1+ (ZG50180) 
LOCATION:Wiesdorf, Musikschule, VHS-Unterrichtsräume, Seminarraum 2, Friedrich-Ebert-Straße 41 a, 51373 Leverkusen
END:VEVENT
BEGIN:VEVENT
DTSTAMP:20260424T131847
DTSTART;TZID=Europe/Berlin:20260715T180000
DTEND;TZID=Europe/Berlin:20260715T201500
UID:ZG50180-20260715T180000@VHSLEVERKUSEN
SUMMARY:Deutsch C1+ (ZG50180) 
LOCATION:Wiesdorf, Musikschule, VHS-Unterrichtsräume, Seminarraum 2, Friedrich-Ebert-Straße 41 a, 51373 Leverkusen
END:VEVENT
END:VCALENDAR