BEGIN:VCALENDAR
VERSION:2.0
PRODID:https://www.kufer.de/kuferweb / DE
METHOD:PUBLISH
CALSCALE:GREGORIAN
X-WR-TIMEZONE:Europe/Berlin
BEGIN:VTIMEZONE
TZID:Europe/Berlin
X-LIC-LOCATION:Europe/Berlin
BEGIN:DAYLIGHT
TZOFFSETFROM:+0100
TZOFFSETTO:+0200
TZNAME:CEST
DTSTART:19700329T020000
RRULE:FREQ=YEARLY;INTERVAL=1;BYDAY=-1SU;BYMONTH=3
END:DAYLIGHT
BEGIN:STANDARD
TZOFFSETFROM:+0200
TZOFFSETTO:+0100
TZNAME:CET
DTSTART:19701025T030000
RRULE:FREQ=YEARLY;INTERVAL=1;BYDAY=-1SU;BYMONTH=10
END:STANDARD
END:VTIMEZONE
BEGIN:VEVENT
DTSTAMP:20260424T115816
DTSTART;TZID=Europe/Berlin:20260416T180000
DTEND;TZID=Europe/Berlin:20260416T193000
UID:ZG72000-20260416T180000@VHSLEVERKUSEN
SUMMARY:Umstieg auf Linux - Installation und Starthilfe (ZG72000) 
LOCATION:Op, VHS-Außenstelle Schusterinsel, EG Raum 2, Multifunktionsraum, Brückenstr. 18-20, 51379 Leverkusen
END:VEVENT
BEGIN:VEVENT
DTSTAMP:20260424T115816
DTSTART;TZID=Europe/Berlin:20260425T110000
DTEND;TZID=Europe/Berlin:20260425T140000
UID:ZG72000-20260425T110000@VHSLEVERKUSEN
SUMMARY:Umstieg auf Linux - Installation und Starthilfe (ZG72000) 
LOCATION:Op, VHS-Außenstelle Schusterinsel, EG Raum 2, Multifunktionsraum, Brückenstr. 18-20, 51379 Leverkusen
END:VEVENT
BEGIN:VEVENT
DTSTAMP:20260424T115816
DTSTART;TZID=Europe/Berlin:20260507T180000
DTEND;TZID=Europe/Berlin:20260507T190000
UID:ZG72000-20260507T180000@VHSLEVERKUSEN
SUMMARY:Umstieg auf Linux - Installation und Starthilfe (ZG72000) 
LOCATION:online, vhs-cloud BBB
END:VEVENT
END:VCALENDAR