BEGIN:VCALENDAR
VERSION:2.0
PRODID:https://www.kufer.de/kuferweb / DE
METHOD:PUBLISH
CALSCALE:GREGORIAN
X-WR-TIMEZONE:Europe/Berlin
BEGIN:VTIMEZONE
TZID:Europe/Berlin
X-LIC-LOCATION:Europe/Berlin
BEGIN:DAYLIGHT
TZOFFSETFROM:+0100
TZOFFSETTO:+0200
TZNAME:CEST
DTSTART:19700329T020000
RRULE:FREQ=YEARLY;INTERVAL=1;BYDAY=-1SU;BYMONTH=3
END:DAYLIGHT
BEGIN:STANDARD
TZOFFSETFROM:+0200
TZOFFSETTO:+0100
TZNAME:CET
DTSTART:19701025T030000
RRULE:FREQ=YEARLY;INTERVAL=1;BYDAY=-1SU;BYMONTH=10
END:STANDARD
END:VTIMEZONE
BEGIN:VEVENT
DTSTAMP:20260424T115923
DTSTART;TZID=Europe/Berlin:20260310T164500
DTEND;TZID=Europe/Berlin:20260310T181500
UID:ZG80020-20260310T164500@VHSLEVERKUSEN
SUMMARY:Lesen, Schreiben und Rechnen II für deutschsprachige Erwachsene (ZG80020) 
LOCATION:Ort wird bekannt gegeben
END:VEVENT
BEGIN:VEVENT
DTSTAMP:20260424T115923
DTSTART;TZID=Europe/Berlin:20260312T164500
DTEND;TZID=Europe/Berlin:20260312T181500
UID:ZG80020-20260312T164500@VHSLEVERKUSEN
SUMMARY:Lesen, Schreiben und Rechnen II für deutschsprachige Erwachsene (ZG80020) 
LOCATION:Ort wird bekannt gegeben
END:VEVENT
BEGIN:VEVENT
DTSTAMP:20260424T115923
DTSTART;TZID=Europe/Berlin:20260317T164500
DTEND;TZID=Europe/Berlin:20260317T181500
UID:ZG80020-20260317T164500@VHSLEVERKUSEN
SUMMARY:Lesen, Schreiben und Rechnen II für deutschsprachige Erwachsene (ZG80020) 
LOCATION:Ort wird bekannt gegeben
END:VEVENT
BEGIN:VEVENT
DTSTAMP:20260424T115923
DTSTART;TZID=Europe/Berlin:20260319T164500
DTEND;TZID=Europe/Berlin:20260319T181500
UID:ZG80020-20260319T164500@VHSLEVERKUSEN
SUMMARY:Lesen, Schreiben und Rechnen II für deutschsprachige Erwachsene (ZG80020) 
LOCATION:Ort wird bekannt gegeben
END:VEVENT
BEGIN:VEVENT
DTSTAMP:20260424T115923
DTSTART;TZID=Europe/Berlin:20260324T164500
DTEND;TZID=Europe/Berlin:20260324T181500
UID:ZG80020-20260324T164500@VHSLEVERKUSEN
SUMMARY:Lesen, Schreiben und Rechnen II für deutschsprachige Erwachsene (ZG80020) 
LOCATION:Ort wird bekannt gegeben
END:VEVENT
BEGIN:VEVENT
DTSTAMP:20260424T115923
DTSTART;TZID=Europe/Berlin:20260326T164500
DTEND;TZID=Europe/Berlin:20260326T181500
UID:ZG80020-20260326T164500@VHSLEVERKUSEN
SUMMARY:Lesen, Schreiben und Rechnen II für deutschsprachige Erwachsene (ZG80020) 
LOCATION:Ort wird bekannt gegeben
END:VEVENT
BEGIN:VEVENT
DTSTAMP:20260424T115923
DTSTART;TZID=Europe/Berlin:20260414T164500
DTEND;TZID=Europe/Berlin:20260414T181500
UID:ZG80020-20260414T164500@VHSLEVERKUSEN
SUMMARY:Lesen, Schreiben und Rechnen II für deutschsprachige Erwachsene (ZG80020) 
LOCATION:Ort wird bekannt gegeben
END:VEVENT
BEGIN:VEVENT
DTSTAMP:20260424T115923
DTSTART;TZID=Europe/Berlin:20260416T164500
DTEND;TZID=Europe/Berlin:20260416T181500
UID:ZG80020-20260416T164500@VHSLEVERKUSEN
SUMMARY:Lesen, Schreiben und Rechnen II für deutschsprachige Erwachsene (ZG80020) 
LOCATION:Ort wird bekannt gegeben
END:VEVENT
BEGIN:VEVENT
DTSTAMP:20260424T115923
DTSTART;TZID=Europe/Berlin:20260421T164500
DTEND;TZID=Europe/Berlin:20260421T181500
UID:ZG80020-20260421T164500@VHSLEVERKUSEN
SUMMARY:Lesen, Schreiben und Rechnen II für deutschsprachige Erwachsene (ZG80020) 
LOCATION:Ort wird bekannt gegeben
END:VEVENT
BEGIN:VEVENT
DTSTAMP:20260424T115923
DTSTART;TZID=Europe/Berlin:20260423T164500
DTEND;TZID=Europe/Berlin:20260423T181500
UID:ZG80020-20260423T164500@VHSLEVERKUSEN
SUMMARY:Lesen, Schreiben und Rechnen II für deutschsprachige Erwachsene (ZG80020) 
LOCATION:Ort wird bekannt gegeben
END:VEVENT
BEGIN:VEVENT
DTSTAMP:20260424T115923
DTSTART;TZID=Europe/Berlin:20260428T164500
DTEND;TZID=Europe/Berlin:20260428T181500
UID:ZG80020-20260428T164500@VHSLEVERKUSEN
SUMMARY:Lesen, Schreiben und Rechnen II für deutschsprachige Erwachsene (ZG80020) 
LOCATION:Ort wird bekannt gegeben
END:VEVENT
BEGIN:VEVENT
DTSTAMP:20260424T115923
DTSTART;TZID=Europe/Berlin:20260430T164500
DTEND;TZID=Europe/Berlin:20260430T181500
UID:ZG80020-20260430T164500@VHSLEVERKUSEN
SUMMARY:Lesen, Schreiben und Rechnen II für deutschsprachige Erwachsene (ZG80020) 
LOCATION:Ort wird bekannt gegeben
END:VEVENT
BEGIN:VEVENT
DTSTAMP:20260424T115923
DTSTART;TZID=Europe/Berlin:20260505T164500
DTEND;TZID=Europe/Berlin:20260505T181500
UID:ZG80020-20260505T164500@VHSLEVERKUSEN
SUMMARY:Lesen, Schreiben und Rechnen II für deutschsprachige Erwachsene (ZG80020) 
LOCATION:Ort wird bekannt gegeben
END:VEVENT
BEGIN:VEVENT
DTSTAMP:20260424T115923
DTSTART;TZID=Europe/Berlin:20260507T164500
DTEND;TZID=Europe/Berlin:20260507T181500
UID:ZG80020-20260507T164500@VHSLEVERKUSEN
SUMMARY:Lesen, Schreiben und Rechnen II für deutschsprachige Erwachsene (ZG80020) 
LOCATION:Ort wird bekannt gegeben
END:VEVENT
BEGIN:VEVENT
DTSTAMP:20260424T115923
DTSTART;TZID=Europe/Berlin:20260512T164500
DTEND;TZID=Europe/Berlin:20260512T181500
UID:ZG80020-20260512T164500@VHSLEVERKUSEN
SUMMARY:Lesen, Schreiben und Rechnen II für deutschsprachige Erwachsene (ZG80020) 
LOCATION:Ort wird bekannt gegeben
END:VEVENT
BEGIN:VEVENT
DTSTAMP:20260424T115923
DTSTART;TZID=Europe/Berlin:20260519T164500
DTEND;TZID=Europe/Berlin:20260519T181500
UID:ZG80020-20260519T164500@VHSLEVERKUSEN
SUMMARY:Lesen, Schreiben und Rechnen II für deutschsprachige Erwachsene (ZG80020) 
LOCATION:Ort wird bekannt gegeben
END:VEVENT
BEGIN:VEVENT
DTSTAMP:20260424T115923
DTSTART;TZID=Europe/Berlin:20260521T164500
DTEND;TZID=Europe/Berlin:20260521T181500
UID:ZG80020-20260521T164500@VHSLEVERKUSEN
SUMMARY:Lesen, Schreiben und Rechnen II für deutschsprachige Erwachsene (ZG80020) 
LOCATION:Ort wird bekannt gegeben
END:VEVENT
BEGIN:VEVENT
DTSTAMP:20260424T115923
DTSTART;TZID=Europe/Berlin:20260528T164500
DTEND;TZID=Europe/Berlin:20260528T181500
UID:ZG80020-20260528T164500@VHSLEVERKUSEN
SUMMARY:Lesen, Schreiben und Rechnen II für deutschsprachige Erwachsene (ZG80020) 
LOCATION:Ort wird bekannt gegeben
END:VEVENT
BEGIN:VEVENT
DTSTAMP:20260424T115923
DTSTART;TZID=Europe/Berlin:20260602T164500
DTEND;TZID=Europe/Berlin:20260602T181500
UID:ZG80020-20260602T164500@VHSLEVERKUSEN
SUMMARY:Lesen, Schreiben und Rechnen II für deutschsprachige Erwachsene (ZG80020) 
LOCATION:Ort wird bekannt gegeben
END:VEVENT
BEGIN:VEVENT
DTSTAMP:20260424T115923
DTSTART;TZID=Europe/Berlin:20260609T164500
DTEND;TZID=Europe/Berlin:20260609T181500
UID:ZG80020-20260609T164500@VHSLEVERKUSEN
SUMMARY:Lesen, Schreiben und Rechnen II für deutschsprachige Erwachsene (ZG80020) 
LOCATION:Ort wird bekannt gegeben
END:VEVENT
BEGIN:VEVENT
DTSTAMP:20260424T115923
DTSTART;TZID=Europe/Berlin:20260611T164500
DTEND;TZID=Europe/Berlin:20260611T181500
UID:ZG80020-20260611T164500@VHSLEVERKUSEN
SUMMARY:Lesen, Schreiben und Rechnen II für deutschsprachige Erwachsene (ZG80020) 
LOCATION:Ort wird bekannt gegeben
END:VEVENT
BEGIN:VEVENT
DTSTAMP:20260424T115923
DTSTART;TZID=Europe/Berlin:20260616T164500
DTEND;TZID=Europe/Berlin:20260616T181500
UID:ZG80020-20260616T164500@VHSLEVERKUSEN
SUMMARY:Lesen, Schreiben und Rechnen II für deutschsprachige Erwachsene (ZG80020) 
LOCATION:Ort wird bekannt gegeben
END:VEVENT
BEGIN:VEVENT
DTSTAMP:20260424T115923
DTSTART;TZID=Europe/Berlin:20260618T164500
DTEND;TZID=Europe/Berlin:20260618T181500
UID:ZG80020-20260618T164500@VHSLEVERKUSEN
SUMMARY:Lesen, Schreiben und Rechnen II für deutschsprachige Erwachsene (ZG80020) 
LOCATION:Ort wird bekannt gegeben
END:VEVENT
BEGIN:VEVENT
DTSTAMP:20260424T115923
DTSTART;TZID=Europe/Berlin:20260623T164500
DTEND;TZID=Europe/Berlin:20260623T181500
UID:ZG80020-20260623T164500@VHSLEVERKUSEN
SUMMARY:Lesen, Schreiben und Rechnen II für deutschsprachige Erwachsene (ZG80020) 
LOCATION:Ort wird bekannt gegeben
END:VEVENT
BEGIN:VEVENT
DTSTAMP:20260424T115923
DTSTART;TZID=Europe/Berlin:20260625T164500
DTEND;TZID=Europe/Berlin:20260625T181500
UID:ZG80020-20260625T164500@VHSLEVERKUSEN
SUMMARY:Lesen, Schreiben und Rechnen II für deutschsprachige Erwachsene (ZG80020) 
LOCATION:Ort wird bekannt gegeben
END:VEVENT
BEGIN:VEVENT
DTSTAMP:20260424T115923
DTSTART;TZID=Europe/Berlin:20260630T164500
DTEND;TZID=Europe/Berlin:20260630T181500
UID:ZG80020-20260630T164500@VHSLEVERKUSEN
SUMMARY:Lesen, Schreiben und Rechnen II für deutschsprachige Erwachsene (ZG80020) 
LOCATION:Ort wird bekannt gegeben
END:VEVENT
BEGIN:VEVENT
DTSTAMP:20260424T115923
DTSTART;TZID=Europe/Berlin:20260702T164500
DTEND;TZID=Europe/Berlin:20260702T181500
UID:ZG80020-20260702T164500@VHSLEVERKUSEN
SUMMARY:Lesen, Schreiben und Rechnen II für deutschsprachige Erwachsene (ZG80020) 
LOCATION:Ort wird bekannt gegeben
END:VEVENT
BEGIN:VEVENT
DTSTAMP:20260424T115923
DTSTART;TZID=Europe/Berlin:20260707T164500
DTEND;TZID=Europe/Berlin:20260707T181500
UID:ZG80020-20260707T164500@VHSLEVERKUSEN
SUMMARY:Lesen, Schreiben und Rechnen II für deutschsprachige Erwachsene (ZG80020) 
LOCATION:Ort wird bekannt gegeben
END:VEVENT
BEGIN:VEVENT
DTSTAMP:20260424T115923
DTSTART;TZID=Europe/Berlin:20260709T164500
DTEND;TZID=Europe/Berlin:20260709T181500
UID:ZG80020-20260709T164500@VHSLEVERKUSEN
SUMMARY:Lesen, Schreiben und Rechnen II für deutschsprachige Erwachsene (ZG80020) 
LOCATION:Ort wird bekannt gegeben
END:VEVENT
BEGIN:VEVENT
DTSTAMP:20260424T115923
DTSTART;TZID=Europe/Berlin:20260714T164500
DTEND;TZID=Europe/Berlin:20260714T181500
UID:ZG80020-20260714T164500@VHSLEVERKUSEN
SUMMARY:Lesen, Schreiben und Rechnen II für deutschsprachige Erwachsene (ZG80020) 
LOCATION:Ort wird bekannt gegeben
END:VEVENT
BEGIN:VEVENT
DTSTAMP:20260424T115923
DTSTART;TZID=Europe/Berlin:20260716T164500
DTEND;TZID=Europe/Berlin:20260716T181500
UID:ZG80020-20260716T164500@VHSLEVERKUSEN
SUMMARY:Lesen, Schreiben und Rechnen II für deutschsprachige Erwachsene (ZG80020) 
LOCATION:Ort wird bekannt gegeben
END:VEVENT
END:VCALENDAR