BEGIN:VCALENDAR
VERSION:2.0
PRODID:https://www.kufer.de/kuferweb / DE
METHOD:PUBLISH
CALSCALE:GREGORIAN
X-WR-TIMEZONE:Europe/Berlin
BEGIN:VTIMEZONE
TZID:Europe/Berlin
X-LIC-LOCATION:Europe/Berlin
BEGIN:DAYLIGHT
TZOFFSETFROM:+0100
TZOFFSETTO:+0200
TZNAME:CEST
DTSTART:19700329T020000
RRULE:FREQ=YEARLY;INTERVAL=1;BYDAY=-1SU;BYMONTH=3
END:DAYLIGHT
BEGIN:STANDARD
TZOFFSETFROM:+0200
TZOFFSETTO:+0100
TZNAME:CET
DTSTART:19701025T030000
RRULE:FREQ=YEARLY;INTERVAL=1;BYDAY=-1SU;BYMONTH=10
END:STANDARD
END:VTIMEZONE
BEGIN:VEVENT
DTSTAMP:20260424T115816
DTSTART;TZID=Europe/Berlin:20260310T181500
DTEND;TZID=Europe/Berlin:20260310T194500
UID:ZG80030-20260310T181500@VHSLEVERKUSEN
SUMMARY:Lesen, Schreiben und Rechnen III für deutschsprachige Erwachsene (ZG80030) 
LOCATION:Ort wird bekannt gegeben
END:VEVENT
BEGIN:VEVENT
DTSTAMP:20260424T115816
DTSTART;TZID=Europe/Berlin:20260312T181500
DTEND;TZID=Europe/Berlin:20260312T194500
UID:ZG80030-20260312T181500@VHSLEVERKUSEN
SUMMARY:Lesen, Schreiben und Rechnen III für deutschsprachige Erwachsene (ZG80030) 
LOCATION:Ort wird bekannt gegeben
END:VEVENT
BEGIN:VEVENT
DTSTAMP:20260424T115816
DTSTART;TZID=Europe/Berlin:20260317T181500
DTEND;TZID=Europe/Berlin:20260317T194500
UID:ZG80030-20260317T181500@VHSLEVERKUSEN
SUMMARY:Lesen, Schreiben und Rechnen III für deutschsprachige Erwachsene (ZG80030) 
LOCATION:Ort wird bekannt gegeben
END:VEVENT
BEGIN:VEVENT
DTSTAMP:20260424T115816
DTSTART;TZID=Europe/Berlin:20260319T181500
DTEND;TZID=Europe/Berlin:20260319T194500
UID:ZG80030-20260319T181500@VHSLEVERKUSEN
SUMMARY:Lesen, Schreiben und Rechnen III für deutschsprachige Erwachsene (ZG80030) 
LOCATION:Ort wird bekannt gegeben
END:VEVENT
BEGIN:VEVENT
DTSTAMP:20260424T115816
DTSTART;TZID=Europe/Berlin:20260324T181500
DTEND;TZID=Europe/Berlin:20260324T194500
UID:ZG80030-20260324T181500@VHSLEVERKUSEN
SUMMARY:Lesen, Schreiben und Rechnen III für deutschsprachige Erwachsene (ZG80030) 
LOCATION:Ort wird bekannt gegeben
END:VEVENT
BEGIN:VEVENT
DTSTAMP:20260424T115816
DTSTART;TZID=Europe/Berlin:20260326T181500
DTEND;TZID=Europe/Berlin:20260326T194500
UID:ZG80030-20260326T181500@VHSLEVERKUSEN
SUMMARY:Lesen, Schreiben und Rechnen III für deutschsprachige Erwachsene (ZG80030) 
LOCATION:Ort wird bekannt gegeben
END:VEVENT
BEGIN:VEVENT
DTSTAMP:20260424T115816
DTSTART;TZID=Europe/Berlin:20260414T181500
DTEND;TZID=Europe/Berlin:20260414T194500
UID:ZG80030-20260414T181500@VHSLEVERKUSEN
SUMMARY:Lesen, Schreiben und Rechnen III für deutschsprachige Erwachsene (ZG80030) 
LOCATION:Ort wird bekannt gegeben
END:VEVENT
BEGIN:VEVENT
DTSTAMP:20260424T115816
DTSTART;TZID=Europe/Berlin:20260416T181500
DTEND;TZID=Europe/Berlin:20260416T194500
UID:ZG80030-20260416T181500@VHSLEVERKUSEN
SUMMARY:Lesen, Schreiben und Rechnen III für deutschsprachige Erwachsene (ZG80030) 
LOCATION:Ort wird bekannt gegeben
END:VEVENT
BEGIN:VEVENT
DTSTAMP:20260424T115816
DTSTART;TZID=Europe/Berlin:20260421T181500
DTEND;TZID=Europe/Berlin:20260421T194500
UID:ZG80030-20260421T181500@VHSLEVERKUSEN
SUMMARY:Lesen, Schreiben und Rechnen III für deutschsprachige Erwachsene (ZG80030) 
LOCATION:Ort wird bekannt gegeben
END:VEVENT
BEGIN:VEVENT
DTSTAMP:20260424T115816
DTSTART;TZID=Europe/Berlin:20260423T181500
DTEND;TZID=Europe/Berlin:20260423T194500
UID:ZG80030-20260423T181500@VHSLEVERKUSEN
SUMMARY:Lesen, Schreiben und Rechnen III für deutschsprachige Erwachsene (ZG80030) 
LOCATION:Ort wird bekannt gegeben
END:VEVENT
BEGIN:VEVENT
DTSTAMP:20260424T115816
DTSTART;TZID=Europe/Berlin:20260428T181500
DTEND;TZID=Europe/Berlin:20260428T194500
UID:ZG80030-20260428T181500@VHSLEVERKUSEN
SUMMARY:Lesen, Schreiben und Rechnen III für deutschsprachige Erwachsene (ZG80030) 
LOCATION:Ort wird bekannt gegeben
END:VEVENT
BEGIN:VEVENT
DTSTAMP:20260424T115816
DTSTART;TZID=Europe/Berlin:20260430T181500
DTEND;TZID=Europe/Berlin:20260430T194500
UID:ZG80030-20260430T181500@VHSLEVERKUSEN
SUMMARY:Lesen, Schreiben und Rechnen III für deutschsprachige Erwachsene (ZG80030) 
LOCATION:Ort wird bekannt gegeben
END:VEVENT
BEGIN:VEVENT
DTSTAMP:20260424T115816
DTSTART;TZID=Europe/Berlin:20260505T181500
DTEND;TZID=Europe/Berlin:20260505T194500
UID:ZG80030-20260505T181500@VHSLEVERKUSEN
SUMMARY:Lesen, Schreiben und Rechnen III für deutschsprachige Erwachsene (ZG80030) 
LOCATION:Ort wird bekannt gegeben
END:VEVENT
BEGIN:VEVENT
DTSTAMP:20260424T115816
DTSTART;TZID=Europe/Berlin:20260507T181500
DTEND;TZID=Europe/Berlin:20260507T194500
UID:ZG80030-20260507T181500@VHSLEVERKUSEN
SUMMARY:Lesen, Schreiben und Rechnen III für deutschsprachige Erwachsene (ZG80030) 
LOCATION:Ort wird bekannt gegeben
END:VEVENT
BEGIN:VEVENT
DTSTAMP:20260424T115816
DTSTART;TZID=Europe/Berlin:20260512T181500
DTEND;TZID=Europe/Berlin:20260512T194500
UID:ZG80030-20260512T181500@VHSLEVERKUSEN
SUMMARY:Lesen, Schreiben und Rechnen III für deutschsprachige Erwachsene (ZG80030) 
LOCATION:Ort wird bekannt gegeben
END:VEVENT
BEGIN:VEVENT
DTSTAMP:20260424T115816
DTSTART;TZID=Europe/Berlin:20260519T181500
DTEND;TZID=Europe/Berlin:20260519T194500
UID:ZG80030-20260519T181500@VHSLEVERKUSEN
SUMMARY:Lesen, Schreiben und Rechnen III für deutschsprachige Erwachsene (ZG80030) 
LOCATION:Ort wird bekannt gegeben
END:VEVENT
BEGIN:VEVENT
DTSTAMP:20260424T115816
DTSTART;TZID=Europe/Berlin:20260521T181500
DTEND;TZID=Europe/Berlin:20260521T194500
UID:ZG80030-20260521T181500@VHSLEVERKUSEN
SUMMARY:Lesen, Schreiben und Rechnen III für deutschsprachige Erwachsene (ZG80030) 
LOCATION:Ort wird bekannt gegeben
END:VEVENT
BEGIN:VEVENT
DTSTAMP:20260424T115816
DTSTART;TZID=Europe/Berlin:20260528T181500
DTEND;TZID=Europe/Berlin:20260528T194500
UID:ZG80030-20260528T181500@VHSLEVERKUSEN
SUMMARY:Lesen, Schreiben und Rechnen III für deutschsprachige Erwachsene (ZG80030) 
LOCATION:Ort wird bekannt gegeben
END:VEVENT
BEGIN:VEVENT
DTSTAMP:20260424T115816
DTSTART;TZID=Europe/Berlin:20260602T181500
DTEND;TZID=Europe/Berlin:20260602T194500
UID:ZG80030-20260602T181500@VHSLEVERKUSEN
SUMMARY:Lesen, Schreiben und Rechnen III für deutschsprachige Erwachsene (ZG80030) 
LOCATION:Ort wird bekannt gegeben
END:VEVENT
BEGIN:VEVENT
DTSTAMP:20260424T115816
DTSTART;TZID=Europe/Berlin:20260609T181500
DTEND;TZID=Europe/Berlin:20260609T194500
UID:ZG80030-20260609T181500@VHSLEVERKUSEN
SUMMARY:Lesen, Schreiben und Rechnen III für deutschsprachige Erwachsene (ZG80030) 
LOCATION:Ort wird bekannt gegeben
END:VEVENT
BEGIN:VEVENT
DTSTAMP:20260424T115816
DTSTART;TZID=Europe/Berlin:20260611T181500
DTEND;TZID=Europe/Berlin:20260611T194500
UID:ZG80030-20260611T181500@VHSLEVERKUSEN
SUMMARY:Lesen, Schreiben und Rechnen III für deutschsprachige Erwachsene (ZG80030) 
LOCATION:Ort wird bekannt gegeben
END:VEVENT
BEGIN:VEVENT
DTSTAMP:20260424T115816
DTSTART;TZID=Europe/Berlin:20260616T181500
DTEND;TZID=Europe/Berlin:20260616T194500
UID:ZG80030-20260616T181500@VHSLEVERKUSEN
SUMMARY:Lesen, Schreiben und Rechnen III für deutschsprachige Erwachsene (ZG80030) 
LOCATION:Ort wird bekannt gegeben
END:VEVENT
BEGIN:VEVENT
DTSTAMP:20260424T115816
DTSTART;TZID=Europe/Berlin:20260618T181500
DTEND;TZID=Europe/Berlin:20260618T194500
UID:ZG80030-20260618T181500@VHSLEVERKUSEN
SUMMARY:Lesen, Schreiben und Rechnen III für deutschsprachige Erwachsene (ZG80030) 
LOCATION:Ort wird bekannt gegeben
END:VEVENT
BEGIN:VEVENT
DTSTAMP:20260424T115816
DTSTART;TZID=Europe/Berlin:20260623T181500
DTEND;TZID=Europe/Berlin:20260623T194500
UID:ZG80030-20260623T181500@VHSLEVERKUSEN
SUMMARY:Lesen, Schreiben und Rechnen III für deutschsprachige Erwachsene (ZG80030) 
LOCATION:Ort wird bekannt gegeben
END:VEVENT
BEGIN:VEVENT
DTSTAMP:20260424T115816
DTSTART;TZID=Europe/Berlin:20260625T181500
DTEND;TZID=Europe/Berlin:20260625T194500
UID:ZG80030-20260625T181500@VHSLEVERKUSEN
SUMMARY:Lesen, Schreiben und Rechnen III für deutschsprachige Erwachsene (ZG80030) 
LOCATION:Ort wird bekannt gegeben
END:VEVENT
BEGIN:VEVENT
DTSTAMP:20260424T115816
DTSTART;TZID=Europe/Berlin:20260630T181500
DTEND;TZID=Europe/Berlin:20260630T194500
UID:ZG80030-20260630T181500@VHSLEVERKUSEN
SUMMARY:Lesen, Schreiben und Rechnen III für deutschsprachige Erwachsene (ZG80030) 
LOCATION:Ort wird bekannt gegeben
END:VEVENT
BEGIN:VEVENT
DTSTAMP:20260424T115816
DTSTART;TZID=Europe/Berlin:20260702T181500
DTEND;TZID=Europe/Berlin:20260702T194500
UID:ZG80030-20260702T181500@VHSLEVERKUSEN
SUMMARY:Lesen, Schreiben und Rechnen III für deutschsprachige Erwachsene (ZG80030) 
LOCATION:Ort wird bekannt gegeben
END:VEVENT
BEGIN:VEVENT
DTSTAMP:20260424T115816
DTSTART;TZID=Europe/Berlin:20260707T181500
DTEND;TZID=Europe/Berlin:20260707T194500
UID:ZG80030-20260707T181500@VHSLEVERKUSEN
SUMMARY:Lesen, Schreiben und Rechnen III für deutschsprachige Erwachsene (ZG80030) 
LOCATION:Ort wird bekannt gegeben
END:VEVENT
BEGIN:VEVENT
DTSTAMP:20260424T115816
DTSTART;TZID=Europe/Berlin:20260709T181500
DTEND;TZID=Europe/Berlin:20260709T194500
UID:ZG80030-20260709T181500@VHSLEVERKUSEN
SUMMARY:Lesen, Schreiben und Rechnen III für deutschsprachige Erwachsene (ZG80030) 
LOCATION:Ort wird bekannt gegeben
END:VEVENT
BEGIN:VEVENT
DTSTAMP:20260424T115816
DTSTART;TZID=Europe/Berlin:20260714T181500
DTEND;TZID=Europe/Berlin:20260714T194500
UID:ZG80030-20260714T181500@VHSLEVERKUSEN
SUMMARY:Lesen, Schreiben und Rechnen III für deutschsprachige Erwachsene (ZG80030) 
LOCATION:Ort wird bekannt gegeben
END:VEVENT
BEGIN:VEVENT
DTSTAMP:20260424T115816
DTSTART;TZID=Europe/Berlin:20260716T181500
DTEND;TZID=Europe/Berlin:20260716T194500
UID:ZG80030-20260716T181500@VHSLEVERKUSEN
SUMMARY:Lesen, Schreiben und Rechnen III für deutschsprachige Erwachsene (ZG80030) 
LOCATION:Ort wird bekannt gegeben
END:VEVENT
END:VCALENDAR