BEGIN:VCALENDAR
VERSION:2.0
PRODID:https://www.kufer.de/kuferweb / DE
METHOD:PUBLISH
CALSCALE:GREGORIAN
X-WR-TIMEZONE:Europe/Berlin
BEGIN:VTIMEZONE
TZID:Europe/Berlin
X-LIC-LOCATION:Europe/Berlin
BEGIN:DAYLIGHT
TZOFFSETFROM:+0100
TZOFFSETTO:+0200
TZNAME:CEST
DTSTART:19700329T020000
RRULE:FREQ=YEARLY;INTERVAL=1;BYDAY=-1SU;BYMONTH=3
END:DAYLIGHT
BEGIN:STANDARD
TZOFFSETFROM:+0200
TZOFFSETTO:+0100
TZNAME:CET
DTSTART:19701025T030000
RRULE:FREQ=YEARLY;INTERVAL=1;BYDAY=-1SU;BYMONTH=10
END:STANDARD
END:VTIMEZONE
BEGIN:VEVENT
DTSTAMP:20260424T120713
DTSTART;TZID=Europe/Berlin:20260311T161500
DTEND;TZID=Europe/Berlin:20260311T174500
UID:ZG82010-20260311T161500@VHSLEVERKUSEN
SUMMARY:Lesen und Schreiben im Lebensweltbezug I (ZG82010) 
LOCATION:Im Dorf 81, 51381 Leverkusen
END:VEVENT
BEGIN:VEVENT
DTSTAMP:20260424T120713
DTSTART;TZID=Europe/Berlin:20260318T161500
DTEND;TZID=Europe/Berlin:20260318T174500
UID:ZG82010-20260318T161500@VHSLEVERKUSEN
SUMMARY:Lesen und Schreiben im Lebensweltbezug I (ZG82010) 
LOCATION:Im Dorf 81, 51381 Leverkusen
END:VEVENT
BEGIN:VEVENT
DTSTAMP:20260424T120713
DTSTART;TZID=Europe/Berlin:20260325T161500
DTEND;TZID=Europe/Berlin:20260325T174500
UID:ZG82010-20260325T161500@VHSLEVERKUSEN
SUMMARY:Lesen und Schreiben im Lebensweltbezug I (ZG82010) 
LOCATION:Im Dorf 81, 51381 Leverkusen
END:VEVENT
BEGIN:VEVENT
DTSTAMP:20260424T120713
DTSTART;TZID=Europe/Berlin:20260415T161500
DTEND;TZID=Europe/Berlin:20260415T174500
UID:ZG82010-20260415T161500@VHSLEVERKUSEN
SUMMARY:Lesen und Schreiben im Lebensweltbezug I (ZG82010) 
LOCATION:Im Dorf 81, 51381 Leverkusen
END:VEVENT
BEGIN:VEVENT
DTSTAMP:20260424T120713
DTSTART;TZID=Europe/Berlin:20260422T161500
DTEND;TZID=Europe/Berlin:20260422T174500
UID:ZG82010-20260422T161500@VHSLEVERKUSEN
SUMMARY:Lesen und Schreiben im Lebensweltbezug I (ZG82010) 
LOCATION:Im Dorf 81, 51381 Leverkusen
END:VEVENT
BEGIN:VEVENT
DTSTAMP:20260424T120713
DTSTART;TZID=Europe/Berlin:20260429T161500
DTEND;TZID=Europe/Berlin:20260429T174500
UID:ZG82010-20260429T161500@VHSLEVERKUSEN
SUMMARY:Lesen und Schreiben im Lebensweltbezug I (ZG82010) 
LOCATION:Im Dorf 81, 51381 Leverkusen
END:VEVENT
BEGIN:VEVENT
DTSTAMP:20260424T120713
DTSTART;TZID=Europe/Berlin:20260506T161500
DTEND;TZID=Europe/Berlin:20260506T174500
UID:ZG82010-20260506T161500@VHSLEVERKUSEN
SUMMARY:Lesen und Schreiben im Lebensweltbezug I (ZG82010) 
LOCATION:Im Dorf 81, 51381 Leverkusen
END:VEVENT
BEGIN:VEVENT
DTSTAMP:20260424T120713
DTSTART;TZID=Europe/Berlin:20260513T161500
DTEND;TZID=Europe/Berlin:20260513T174500
UID:ZG82010-20260513T161500@VHSLEVERKUSEN
SUMMARY:Lesen und Schreiben im Lebensweltbezug I (ZG82010) 
LOCATION:Im Dorf 81, 51381 Leverkusen
END:VEVENT
BEGIN:VEVENT
DTSTAMP:20260424T120713
DTSTART;TZID=Europe/Berlin:20260520T161500
DTEND;TZID=Europe/Berlin:20260520T174500
UID:ZG82010-20260520T161500@VHSLEVERKUSEN
SUMMARY:Lesen und Schreiben im Lebensweltbezug I (ZG82010) 
LOCATION:Im Dorf 81, 51381 Leverkusen
END:VEVENT
BEGIN:VEVENT
DTSTAMP:20260424T120713
DTSTART;TZID=Europe/Berlin:20260527T161500
DTEND;TZID=Europe/Berlin:20260527T174500
UID:ZG82010-20260527T161500@VHSLEVERKUSEN
SUMMARY:Lesen und Schreiben im Lebensweltbezug I (ZG82010) 
LOCATION:Im Dorf 81, 51381 Leverkusen
END:VEVENT
BEGIN:VEVENT
DTSTAMP:20260424T120713
DTSTART;TZID=Europe/Berlin:20260603T161500
DTEND;TZID=Europe/Berlin:20260603T174500
UID:ZG82010-20260603T161500@VHSLEVERKUSEN
SUMMARY:Lesen und Schreiben im Lebensweltbezug I (ZG82010) 
LOCATION:Im Dorf 81, 51381 Leverkusen
END:VEVENT
BEGIN:VEVENT
DTSTAMP:20260424T120713
DTSTART;TZID=Europe/Berlin:20260610T161500
DTEND;TZID=Europe/Berlin:20260610T174500
UID:ZG82010-20260610T161500@VHSLEVERKUSEN
SUMMARY:Lesen und Schreiben im Lebensweltbezug I (ZG82010) 
LOCATION:Im Dorf 81, 51381 Leverkusen
END:VEVENT
BEGIN:VEVENT
DTSTAMP:20260424T120713
DTSTART;TZID=Europe/Berlin:20260617T161500
DTEND;TZID=Europe/Berlin:20260617T174500
UID:ZG82010-20260617T161500@VHSLEVERKUSEN
SUMMARY:Lesen und Schreiben im Lebensweltbezug I (ZG82010) 
LOCATION:Im Dorf 81, 51381 Leverkusen
END:VEVENT
BEGIN:VEVENT
DTSTAMP:20260424T120713
DTSTART;TZID=Europe/Berlin:20260624T161500
DTEND;TZID=Europe/Berlin:20260624T174500
UID:ZG82010-20260624T161500@VHSLEVERKUSEN
SUMMARY:Lesen und Schreiben im Lebensweltbezug I (ZG82010) 
LOCATION:Im Dorf 81, 51381 Leverkusen
END:VEVENT
BEGIN:VEVENT
DTSTAMP:20260424T120713
DTSTART;TZID=Europe/Berlin:20260701T161500
DTEND;TZID=Europe/Berlin:20260701T174500
UID:ZG82010-20260701T161500@VHSLEVERKUSEN
SUMMARY:Lesen und Schreiben im Lebensweltbezug I (ZG82010) 
LOCATION:Im Dorf 81, 51381 Leverkusen
END:VEVENT
BEGIN:VEVENT
DTSTAMP:20260424T120713
DTSTART;TZID=Europe/Berlin:20260708T161500
DTEND;TZID=Europe/Berlin:20260708T174500
UID:ZG82010-20260708T161500@VHSLEVERKUSEN
SUMMARY:Lesen und Schreiben im Lebensweltbezug I (ZG82010) 
LOCATION:Im Dorf 81, 51381 Leverkusen
END:VEVENT
BEGIN:VEVENT
DTSTAMP:20260424T120713
DTSTART;TZID=Europe/Berlin:20260715T161500
DTEND;TZID=Europe/Berlin:20260715T174500
UID:ZG82010-20260715T161500@VHSLEVERKUSEN
SUMMARY:Lesen und Schreiben im Lebensweltbezug I (ZG82010) 
LOCATION:Im Dorf 81, 51381 Leverkusen
END:VEVENT
END:VCALENDAR